BEGIN:VCALENDAR
VERSION:2.0
PRODID:-// - ECPv6.15.17.1//NONSGML v1.0//EN
CALSCALE:GREGORIAN
METHOD:PUBLISH
X-ORIGINAL-URL:https://www.iltemporale.it/it
X-WR-CALDESC:Eventi per 
REFRESH-INTERVAL;VALUE=DURATION:PT1H
X-Robots-Tag:noindex
X-PUBLISHED-TTL:PT1H
BEGIN:VTIMEZONE
TZID:Europe/Rome
BEGIN:DAYLIGHT
TZOFFSETFROM:+0100
TZOFFSETTO:+0200
TZNAME:CEST
DTSTART:20230326T010000
END:DAYLIGHT
BEGIN:STANDARD
TZOFFSETFROM:+0200
TZOFFSETTO:+0100
TZNAME:CET
DTSTART:20231029T010000
END:STANDARD
BEGIN:DAYLIGHT
TZOFFSETFROM:+0100
TZOFFSETTO:+0200
TZNAME:CEST
DTSTART:20240331T010000
END:DAYLIGHT
BEGIN:STANDARD
TZOFFSETFROM:+0200
TZOFFSETTO:+0100
TZNAME:CET
DTSTART:20241027T010000
END:STANDARD
BEGIN:DAYLIGHT
TZOFFSETFROM:+0100
TZOFFSETTO:+0200
TZNAME:CEST
DTSTART:20250330T010000
END:DAYLIGHT
BEGIN:STANDARD
TZOFFSETFROM:+0200
TZOFFSETTO:+0100
TZNAME:CET
DTSTART:20251026T010000
END:STANDARD
END:VTIMEZONE
BEGIN:VEVENT
DTSTART;TZID=Europe/Rome:20240701T213000
DTEND;TZID=Europe/Rome:20240701T230000
DTSTAMP:20260423T213443
CREATED:20240628T103022Z
LAST-MODIFIED:20240628T103022Z
UID:6745-1719869400-1719874800@www.iltemporale.it
SUMMARY:MARGARITA CLUB
DESCRIPTION:MARGARITA CLUB\nLUNEDI’  1 LUGLIO  ore 21\,30\nOrchestra Giovanile BenTiVoglio\nDirettore: Emiliano Bernagozzi \n  \nINFO e PREONOTAZIONE:     392 355 3754 \nVI ASPETTIAMO ! ! !
URL:https://www.iltemporale.it/it/evento/margarita-club/
LOCATION:Margarita Club – San Giorgio di Piano BO\, Via dell'Artigiano\, 1\, San Giorgio di Piano\, BO\, 40016\, Italia
CATEGORIES:evento,orchestra giovanile
ATTACH;FMTTYPE=image/jpeg:https://www.iltemporale.it/it/wp-content/uploads/2024/06/Margarita-Club-Orchestra-Giovanile-BenTiVoglio-e1719570527237.jpg
END:VEVENT
BEGIN:VEVENT
DTSTART;TZID=Europe/Rome:20240714T210000
DTEND;TZID=Europe/Rome:20240714T223000
DTSTAMP:20260423T213443
CREATED:20240603T173645Z
LAST-MODIFIED:20240603T173645Z
UID:6695-1720990800-1720996200@www.iltemporale.it
SUMMARY:OVERTURE
DESCRIPTION:OVERTURE\nDOMENICA  14 LUGLIO ore 21\,00\nOrchestra Giovanile BenTiVoglio in Concerto\nDirezione Emiliano Bernagozzi\n  \nProgramma \n  \nGiuseppe Verdi (1813-1901)                             dal Nabucco Overture \nJohannes Brahms (1833-1897)                        Overture Tragica \nPeter Martin (1956-2021)                                Latin American Dances Suite \n\nEl Pájaro Carpintero\nEl Cóndor\nEl Guillo\n\nPeter Martin (1956-2021)                           Mandela \nPatrick Roszell (1976)                                 La storia Infinita \nPatrick Roszell (1976)                                Rocky Broadway \nJerry Brubaker (1946)                               Gershwin By George
URL:https://www.iltemporale.it/it/evento/overture/
LOCATION:Castello di Bentivoglio\, Via Saliceto\, 1\, Bentivoglio\, Bologna\, 40010\, Italia
CATEGORIES:festival musica da camera,orchestra giovanile
ATTACH;FMTTYPE=image/jpeg:https://www.iltemporale.it/it/wp-content/uploads/2024/06/Orchestra-Giovanile-BenTiVoglio-Festival-musica-da-camera-2024-e1717436148611.jpg
END:VEVENT
END:VCALENDAR