BEGIN:VCALENDAR
VERSION:2.0
PRODID:-// - ECPv6.15.17.1//NONSGML v1.0//EN
CALSCALE:GREGORIAN
METHOD:PUBLISH
X-ORIGINAL-URL:https://www.iltemporale.it/it
X-WR-CALDESC:Eventi per 
REFRESH-INTERVAL;VALUE=DURATION:PT1H
X-Robots-Tag:noindex
X-PUBLISHED-TTL:PT1H
BEGIN:VTIMEZONE
TZID:Europe/Paris
BEGIN:DAYLIGHT
TZOFFSETFROM:+0100
TZOFFSETTO:+0200
TZNAME:CEST
DTSTART:20190331T010000
END:DAYLIGHT
BEGIN:STANDARD
TZOFFSETFROM:+0200
TZOFFSETTO:+0100
TZNAME:CET
DTSTART:20191027T010000
END:STANDARD
BEGIN:DAYLIGHT
TZOFFSETFROM:+0100
TZOFFSETTO:+0200
TZNAME:CEST
DTSTART:20200329T010000
END:DAYLIGHT
BEGIN:STANDARD
TZOFFSETFROM:+0200
TZOFFSETTO:+0100
TZNAME:CET
DTSTART:20201025T010000
END:STANDARD
BEGIN:DAYLIGHT
TZOFFSETFROM:+0100
TZOFFSETTO:+0200
TZNAME:CEST
DTSTART:20210328T010000
END:DAYLIGHT
BEGIN:STANDARD
TZOFFSETFROM:+0200
TZOFFSETTO:+0100
TZNAME:CET
DTSTART:20211031T010000
END:STANDARD
END:VTIMEZONE
BEGIN:VEVENT
DTSTART;TZID=Europe/Paris:20201115T080000
DTEND;TZID=Europe/Paris:20201115T233000
DTSTAMP:20260421T153236
CREATED:20200319T163842Z
LAST-MODIFIED:20201029T171201Z
UID:2999-1605427200-1605483000@www.iltemporale.it
SUMMARY:International Ocarina Rave Competition ON LINE
DESCRIPTION:ll 1° Concorso Internazionale “Ocarina Rave Competition” si terrà in modalità ON LINE è organizzato dall’ Associazione Culturale “Il Temporale”. Direzione artistica Marzia Baldassarri\, su ispirazione del Maestro Emiliano Bernagozzi. \nUna nuova idea da proporre agli ocarinisti di tutto il mondo per la quarta edizione dell’Ocarina Rave. \nLo scopo è soprattutto quello di valorizzare lo strumento\, i musicisti ed infine evidenziare il loro talento. Possono partecipare all’ Ocarina Rave Competition musicisti di qualsiasi nazionalità senza limiti di età. \nCon la partecipazione di:  Regione Emilia Romagna\, Comune di Bentivoglio\, Unione Reno Galliera\, Città metropolitana di Bologna\, Teatro Comunale di Bologna. \n\nSCADENZA   PROROGATA   AL   15   NOVEMBRE \nDEADLINE   EXTENDED   TO   NOVEMBER  15th \n\n\n\n\n\n콩쿨 신청 마감을 11월15일로 연기합니다\n\n\n\n\n  \n \n 
URL:https://www.iltemporale.it/it/evento/concorso-internazionale-ocarina/
END:VEVENT
END:VCALENDAR