BEGIN:VCALENDAR
VERSION:2.0
PRODID:-// - ECPv6.15.17.1//NONSGML v1.0//EN
CALSCALE:GREGORIAN
METHOD:PUBLISH
X-ORIGINAL-URL:https://www.iltemporale.it/it
X-WR-CALDESC:Eventi per 
REFRESH-INTERVAL;VALUE=DURATION:PT1H
X-Robots-Tag:noindex
X-PUBLISHED-TTL:PT1H
BEGIN:VTIMEZONE
TZID:Europe/London
BEGIN:DAYLIGHT
TZOFFSETFROM:+0000
TZOFFSETTO:+0100
TZNAME:BST
DTSTART:20190331T010000
END:DAYLIGHT
BEGIN:STANDARD
TZOFFSETFROM:+0100
TZOFFSETTO:+0000
TZNAME:GMT
DTSTART:20191027T010000
END:STANDARD
BEGIN:DAYLIGHT
TZOFFSETFROM:+0000
TZOFFSETTO:+0100
TZNAME:BST
DTSTART:20200329T010000
END:DAYLIGHT
BEGIN:STANDARD
TZOFFSETFROM:+0100
TZOFFSETTO:+0000
TZNAME:GMT
DTSTART:20201025T010000
END:STANDARD
BEGIN:DAYLIGHT
TZOFFSETFROM:+0000
TZOFFSETTO:+0100
TZNAME:BST
DTSTART:20210328T010000
END:DAYLIGHT
BEGIN:STANDARD
TZOFFSETFROM:+0100
TZOFFSETTO:+0000
TZNAME:GMT
DTSTART:20211031T010000
END:STANDARD
END:VTIMEZONE
BEGIN:VEVENT
DTSTART;TZID=Europe/London:20200621T210000
DTEND;TZID=Europe/London:20200621T230000
DTSTAMP:20260421T220950
CREATED:20200614T201358Z
LAST-MODIFIED:20200621T123607Z
UID:3099-1592773200-1592780400@www.iltemporale.it
SUMMARY:ll Barbiere di Siviglia
DESCRIPTION:Il barbiere di Siviglia con  La Compagnia Burattini di Riccardo e il Gruppo Ocarinistico Budriese \n Aprirà il concerto “l’Orchestra Bentivoglio Junior”\n \nSpettacolo per burattini e ocarine liberamente tratto dall’opera omonima di Gioacchino Rossini. \nLa più celebre opera buffa del teatro d’opera entra nel teatro dei burattini emiliani\, dove le arie del “Barbiere” rossiniano sono eseguite dal vivo da un settimino di ocarine. \nIl linguaggio universale della musica unito alle voci e ai movimenti dei burattini\, uno spettacolo adatto a tutte le età. \nore 21:00\, Castello di Bentivoglio\nIngresso GRATUITO\nPRENOTAZIONE OBBLIGATORIA al link:  www.iltemporale.it/it/prenota/ \n  \nI POSTI SONO ESAURITI \nma potete seguire la diretta alle ore 21 (ora Italiana) sul nostro canale YouTube:\nhttps://www.youtube.com/channel/UCBj2qp08qMeXq0Cj9Z9IWJQ \n  \n 
URL:https://www.iltemporale.it/it/evento/ll-barbiere-di-siviglia/
LOCATION:Castello di Bentivoglio\, Via Saliceto\, 1\, Bentivoglio\, Bologna\, 40010\, Italia
END:VEVENT
END:VCALENDAR