BEGIN:VCALENDAR
VERSION:2.0
PRODID:-// - ECPv6.15.17.1//NONSGML v1.0//EN
CALSCALE:GREGORIAN
METHOD:PUBLISH
X-ORIGINAL-URL:https://www.iltemporale.it/it
X-WR-CALDESC:Eventi per 
REFRESH-INTERVAL;VALUE=DURATION:PT1H
X-Robots-Tag:noindex
X-PUBLISHED-TTL:PT1H
BEGIN:VTIMEZONE
TZID:Europe/Rome
BEGIN:DAYLIGHT
TZOFFSETFROM:+0100
TZOFFSETTO:+0200
TZNAME:CEST
DTSTART:20250330T010000
END:DAYLIGHT
BEGIN:STANDARD
TZOFFSETFROM:+0200
TZOFFSETTO:+0100
TZNAME:CET
DTSTART:20251026T010000
END:STANDARD
BEGIN:DAYLIGHT
TZOFFSETFROM:+0100
TZOFFSETTO:+0200
TZNAME:CEST
DTSTART:20260329T010000
END:DAYLIGHT
BEGIN:STANDARD
TZOFFSETFROM:+0200
TZOFFSETTO:+0100
TZNAME:CET
DTSTART:20261025T010000
END:STANDARD
BEGIN:DAYLIGHT
TZOFFSETFROM:+0100
TZOFFSETTO:+0200
TZNAME:CEST
DTSTART:20270328T010000
END:DAYLIGHT
BEGIN:STANDARD
TZOFFSETFROM:+0200
TZOFFSETTO:+0100
TZNAME:CET
DTSTART:20271031T010000
END:STANDARD
END:VTIMEZONE
BEGIN:VEVENT
DTSTART;TZID=Europe/Rome:20260509T203000
DTEND;TZID=Europe/Rome:20260509T213000
DTSTAMP:20260421T050555
CREATED:20260227T172502Z
LAST-MODIFIED:20260227T172502Z
UID:8085-1778358600-1778362200@www.iltemporale.it
SUMMARY:OPEN THEATRE Teatro ragazzi
DESCRIPTION:La festa del Teatro\nOPEN THEATRE\nSABATO 9 MAGGIO  ore 20\,30\n  \nTeatro ragazzi\, per gli attori più piccoli\n  \nSerata di corti teatrali selezionati ed improvvisazione teatrale.\nAttori e spettatori\, un solo palcoscenico. \n  \nPer info: fabrizialotta@libero.it   tel.  338 641 3365 \n 
URL:https://www.iltemporale.it/it/evento/open-theatre-teatro-ragazzi/
LOCATION:Centro culturale tE:Ze\, Via Enrico Berlinguer\, 7\, Bentivoglio\, 40010\, Italia
CATEGORIES:evento,teatro
ATTACH;FMTTYPE=image/jpeg:https://www.iltemporale.it/it/wp-content/uploads/2021/08/OPEN-THEATRE-La-festa-del-teatro-e1628009415114.jpg
END:VEVENT
BEGIN:VEVENT
DTSTART;TZID=Europe/Rome:20260519T173000
DTEND;TZID=Europe/Rome:20260519T183000
DTSTAMP:20260421T050555
CREATED:20260409T165020Z
LAST-MODIFIED:20260409T165020Z
UID:8127-1779211800-1779215400@www.iltemporale.it
SUMMARY:A SUON DI NOTE E PAROLE 2026
DESCRIPTION:A SUON DI NOTE E PAROLE\nLetture di albi illustrati e musica dal vivo per bambine e bambini dai 3 ai 7 anni. \nVi aspettiamo alle 17:30 Martedì 19 maggio con le classi di pianoforte  \nÈ gradita la prenotazione scrivendo a biblioteca.be@renogalliera.it o su Whatsapp 335 815 0550
URL:https://www.iltemporale.it/it/evento/a-suon-di-note-e-parole-2026-2/
CATEGORIES:biblioteca,evento
ATTACH;FMTTYPE=image/jpeg:https://www.iltemporale.it/it/wp-content/uploads/2026/04/A-suon-di-note-e-parole-2026-e1775753019421.jpg
END:VEVENT
BEGIN:VEVENT
DTSTART;TZID=Europe/Rome:20260523T203000
DTEND;TZID=Europe/Rome:20260523T213000
DTSTAMP:20260421T050555
CREATED:20260227T172952Z
LAST-MODIFIED:20260227T172952Z
UID:8087-1779568200-1779571800@www.iltemporale.it
SUMMARY:CONTA FINO A NOVE
DESCRIPTION:Compagnia del Temporale\nCONTA FINO A NOVE\nSABATO 23 MAGGIO  ore 20\,30\n  \nRegia di Fabrizia Lotta\nCon Martina Cardinale\, Luca Donati\, Valentina Forlani\, Linda Frignani\,\nEugenia Giannetti\, Veronica Lodi\, Antonella Lotito\, Chiara Martini\, Jacopo Tartarini\n  \nUna conversazione senza sosta con la propria mente\, indisciplinata\, non chiede mai il\npermesso di pensare mentre tu stai parlando. Che tu sia solo o in mezzo alla gente\,\nnon fa alcuna differenza per lei. E’ difficile andare d’accordo con i propri pensieri.\nStorie incalzanti\, raccontate e pensate.\nAlcune solo raccontate\, altre solo pensate.\nE ancora dobbiamo capire la differenza tra le due.\nHai mai contato fino a nove prima di dire quello che pensi? Lo consigliamo. \n  \nPer info: fabrizialotta@libero.it   tel.  338 641 3365 \n 
URL:https://www.iltemporale.it/it/evento/conta-fino-a-nove/
LOCATION:Centro culturale tE:Ze\, Via Enrico Berlinguer\, 7\, Bentivoglio\, 40010\, Italia
CATEGORIES:evento,teatro
ATTACH;FMTTYPE=image/jpeg:https://www.iltemporale.it/it/wp-content/uploads/2026/02/CONTA-FINO-A-NOVE-Teatro-Il-Temporale-APS-e1772209518563.jpg
END:VEVENT
BEGIN:VEVENT
DTSTART;TZID=Europe/Rome:20260529T203000
DTEND;TZID=Europe/Rome:20260529T213000
DTSTAMP:20260421T050555
CREATED:20260227T173449Z
LAST-MODIFIED:20260227T173449Z
UID:8089-1780086600-1780090200@www.iltemporale.it
SUMMARY:A CHE PENSI?
DESCRIPTION:Compagnia del Temporale Ragazzi\nA CHE PENSI?\nVENERDI’ 29 MAGGIO  ore 20\,30\n  \nRegia di Fabrizia Lotta\nCon Simone Bernardis\, Simone Donati\, Agnese Fustini\, Matilde Lolli\,\nRebecca Manfredini\, Ginevra Marchetti\, Mattia Merighi\nGiovani a confronto\, con loro stessi e con gli altri.\nPaure che non si possono raccontare ma solo pensare. Piccoli pensatoi di sincerità\ndove poter essere se stessi dinanzi a uno specchio\, quando nessuno sente e vede.\nA che pensi? A niente. E invece è sempre tutto. \n  \nPer info: fabrizialotta@libero.it   tel.  338 641 3365 \n 
URL:https://www.iltemporale.it/it/evento/a-che-pensi/
CATEGORIES:evento,teatro
ATTACH;FMTTYPE=image/jpeg:https://www.iltemporale.it/it/wp-content/uploads/2026/02/A-CHE-PENSI-Teatro-Il-Temporale-APS-e1772210782393.jpg
END:VEVENT
BEGIN:VEVENT
DTSTART;TZID=Europe/Rome:20260530T203000
DTEND;TZID=Europe/Rome:20260530T213000
DTSTAMP:20260421T050555
CREATED:20260227T174304Z
LAST-MODIFIED:20260227T174304Z
UID:8091-1780173000-1780176600@www.iltemporale.it
SUMMARY:IL POSTO SEGRETO
DESCRIPTION:Compagnia del Temporale Bambini\nIL POSTO SEGRETO\nSABATO 30 MAGGIO  ore 20\,30\n  \nRegia di Fabrizia Lotta\nCon Elisabetta Albertazzi\, Matteo Ballotta\, Sofia Biasco\, Gregorio Bonfiglioli\,\nAchille Bonsi\, Alice Bradamanti\, Letizia Cipriano\, Estelle Giannotta\, Alice Magri\,\nDiego Mastrogiovanni\, Alina Pepe\, Riccardo Puglisi\, Isabel Righi\,\nSalvatore Ruggeri\, Giorgio Vecchietti\n  \nE’ notte e qualcosa di misterioso e veramente strano aspetta i nostri protagonisti.\nTra avventura e paura\, ironia e poesia\, racconteranno una storia fantastica.\nTeatro e vita attraverso gli occhi di piccoli sognatori. \n  \nPer info: fabrizialotta@libero.it   tel.  338 641 3365 \n 
URL:https://www.iltemporale.it/it/evento/il-posto-segreto/
LOCATION:Centro culturale tE:Ze\, Via Enrico Berlinguer\, 7\, Bentivoglio\, 40010\, Italia
CATEGORIES:evento,teatro
ATTACH;FMTTYPE=image/jpeg:https://www.iltemporale.it/it/wp-content/uploads/2026/02/IL-POSTO-SEGRETO-e1772210028913.jpg
END:VEVENT
END:VCALENDAR