BEGIN:VCALENDAR
VERSION:2.0
PRODID:-// - ECPv6.15.17.1//NONSGML v1.0//EN
CALSCALE:GREGORIAN
METHOD:PUBLISH
X-ORIGINAL-URL:https://www.iltemporale.it/it
X-WR-CALDESC:Eventi per 
REFRESH-INTERVAL;VALUE=DURATION:PT1H
X-Robots-Tag:noindex
X-PUBLISHED-TTL:PT1H
BEGIN:VTIMEZONE
TZID:Europe/Rome
BEGIN:DAYLIGHT
TZOFFSETFROM:+0100
TZOFFSETTO:+0200
TZNAME:CEST
DTSTART:20250330T010000
END:DAYLIGHT
BEGIN:STANDARD
TZOFFSETFROM:+0200
TZOFFSETTO:+0100
TZNAME:CET
DTSTART:20251026T010000
END:STANDARD
BEGIN:DAYLIGHT
TZOFFSETFROM:+0100
TZOFFSETTO:+0200
TZNAME:CEST
DTSTART:20260329T010000
END:DAYLIGHT
BEGIN:STANDARD
TZOFFSETFROM:+0200
TZOFFSETTO:+0100
TZNAME:CET
DTSTART:20261025T010000
END:STANDARD
BEGIN:DAYLIGHT
TZOFFSETFROM:+0100
TZOFFSETTO:+0200
TZNAME:CEST
DTSTART:20270328T010000
END:DAYLIGHT
BEGIN:STANDARD
TZOFFSETFROM:+0200
TZOFFSETTO:+0100
TZNAME:CET
DTSTART:20271031T010000
END:STANDARD
END:VTIMEZONE
BEGIN:VEVENT
DTSTART;TZID=Europe/Rome:20260410T090000
DTEND;TZID=Europe/Rome:20260414T170000
DTSTAMP:20260421T063642
CREATED:20260219T190401Z
LAST-MODIFIED:20260402T175841Z
UID:7943-1775811600-1776186000@www.iltemporale.it
SUMMARY:OCARINA RAVE 2026
DESCRIPTION:Campo Musicale Internazionale di Ocarina\nOCARINA RAVE 2026\n10–14 aprile 2026\nBentivoglio (Bologna\, Italia) \nOCARINA RAVE 2026 è un raduno internazionale dedicato all’ocarina come linguaggio universale. Musicisti\, ensemble e gruppi provenienti da tutto il mondo si incontrano per vivere un’intensa esperienza di studio\, scambio culturale e performance. \nIl programma prevede masterclass con Emiliano Bernagozzi (tradizione italiana\, ensemble e repertorio) e Riko Kobayashi (respiro e spiritualità)\, lezioni quotidiane\, prove d’insieme\, concerti serali e un grande concerto finale con l’orchestra il 14 aprile. \nL’esperienza si collega direttamente al Festival Internazionale dell’Ocarina di Budrio (16–18 aprile 2026)\, con la possibilità di assistere e prendere parte agli eventi ufficiali\, inclusi i concerti del Gruppo Ocarinistico Budriese. \nUn’occasione unica di formazione\, incontro tra culture e visibilità internazionale nel cuore della terra dell’ocarina. \nPer tutte le informazioni visita il sito: www.ocarinarave.it
URL:https://www.iltemporale.it/it/evento/carina-rave-2026/
LOCATION:Sala Giulietta Masina\, via Mario Melloni 2\, San Giorgio di Piano\, Bologgna\, 40016\, Italia
CATEGORIES:evento,ocarina
ATTACH;FMTTYPE=image/jpeg:https://www.iltemporale.it/it/wp-content/uploads/2026/02/OcarinaRave_2026_Il-Temporale-e1775152673745.jpg
END:VEVENT
BEGIN:VEVENT
DTSTART;TZID=Europe/Rome:20260414T173000
DTEND;TZID=Europe/Rome:20260414T183000
DTSTAMP:20260421T063642
CREATED:20260409T164441Z
LAST-MODIFIED:20260409T165028Z
UID:8124-1776187800-1776191400@www.iltemporale.it
SUMMARY:A SUON DI NOTE E PAROLE 2026
DESCRIPTION:A SUON DI NOTE E PAROLE\nLetture di albi illustrati e musica dal vivo per bambine e bambini dai 3 ai 7 anni.Vi aspettiamo alle 17:30 Martedì 14 aprile con le classi degli archi È gradita la prenotazione scrivendo a biblioteca.be@renogalliera.it o su Whatsapp 335 815 0550
URL:https://www.iltemporale.it/it/evento/a-suon-di-note-e-parole-2026/
LOCATION:Biblioteca Remo Dotti\, Via G. Marconi\, 5\, Bentivoglio\, Bologna\, 40010\, Italia
CATEGORIES:biblioteca,evento
ATTACH;FMTTYPE=image/jpeg:https://www.iltemporale.it/it/wp-content/uploads/2026/04/A-suon-di-note-e-parole-2026-e1775753019421.jpg
END:VEVENT
BEGIN:VEVENT
DTSTART;TZID=Europe/Rome:20260414T210000
DTEND;TZID=Europe/Rome:20260414T220000
DTSTAMP:20260421T063642
CREATED:20260410T152603Z
LAST-MODIFIED:20260410T152603Z
UID:8131-1776200400-1776204000@www.iltemporale.it
SUMMARY:Ocarina Rave 2026 concerto finale
DESCRIPTION:14 aprile ore 21.00\nCONCERTO\nSala Giulietta Masina – Via Mario Melloni\, San Giorgio di Piano BO \n  \nAnirako Orchestra (Giappone) \nMusikoré (Forlì) \nOcarinisiti per Caso (Bentivoglio) \nOcarina Ensemble (Budrio) \nGruppo di ocarine del Conservatorio di Bologna \nLe ocarine del Temporale (Bentivoglio) \nGruppo Ocarinistico Giovanile di Taglio id Po (Taglio di Po) \ne \nOrchestra Giovanile BenTiVoglio \ndiretta da Emiliano Bernagozzi \nIngresso Libero
URL:https://www.iltemporale.it/it/evento/ocarina-rave-2026-concerto-finale/
LOCATION:Sala Giulietta Masina\, via Mario Melloni 2\, San Giorgio di Piano\, Bologgna\, 40016\, Italia
CATEGORIES:evento,ocarina,orchestra giovanile
ATTACH;FMTTYPE=image/jpeg:https://www.iltemporale.it/it/wp-content/uploads/2026/04/Ocarina-rave-2026_concerto-e1775834707625.jpg
END:VEVENT
BEGIN:VEVENT
DTSTART;TZID=Europe/Rome:20260418T203000
DTEND;TZID=Europe/Rome:20260418T213000
DTSTAMP:20260421T063642
CREATED:20260227T171947Z
LAST-MODIFIED:20260227T182052Z
UID:8082-1776544200-1776547800@www.iltemporale.it
SUMMARY:DODICI ROSE E UNA GAMBA
DESCRIPTION:Compagnia Teatralmente Instabili\nDODICI ROSE E UNA GAMBA\nSABATO 18 APRILE  ore 20\,30\n  \nDi Camillo Vittici\nRegia di Margarida Batista\n  \nCon Leonardo Lopresti\, Bianca Lui\, Francesca Bergami\, Giulia Cavallari\,\nGabriele Bernardini\, Marco Mazza.\nStrane e curiose vicende che si svolgono in un piccolo cimitero di paese. Vedovi che\nsi incontrano\, amori che sbocciano\, strani pacchi\, richieste assurde e numeri del lotto. \n  \nPer info: fabrizialotta@libero.it   tel.  338 641 3365 \n 
URL:https://www.iltemporale.it/it/evento/dodici-rose-e-una-gamba/
LOCATION:Centro culturale tE:Ze\, Via Enrico Berlinguer\, 7\, Bentivoglio\, 40010\, Italia
CATEGORIES:evento,teatro
ATTACH;FMTTYPE=image/jpeg:https://www.iltemporale.it/it/wp-content/uploads/2025/03/TEATRO-STAGIONE_IL-TEMPORALE-2025.jpg
END:VEVENT
BEGIN:VEVENT
DTSTART;TZID=Europe/Rome:20260418T210000
DTEND;TZID=Europe/Rome:20260418T220000
DTSTAMP:20260421T063642
CREATED:20260413T163801Z
LAST-MODIFIED:20260413T171925Z
UID:8134-1776546000-1776549600@www.iltemporale.it
SUMMARY:Gran Gala dell'ocarina
DESCRIPTION:All’interno della rassegna del Festival Internazionale dell’Ocarina di Budrio \nGran Gala dell’ocarina\nSabato 18 aprile ore 21\,00\n Teatro Consorziale di Budrio\, Via Garibaldi\, Budrio\, BO\n  \nQuando la storia incontra il futuro!Il custode del genio di Donati e ambasciatore mondiale dell’ocarina\, dialoga con l’eccellenza sinfonica delle nuove generazioni. Un concerto unico dove il mito di terracotta dell’ocarina a 10 fori incontra il talento dei giovani musicisti\, creando un ponte tra tradizione e innovazione.Un’esperienza magica tra tradizione senza tempo e innovazione giovanile! Ingresso gratuito su prenotazione Info su ocarinafestival.org
URL:https://www.iltemporale.it/it/evento/gran-gala-dellocarina-2/
LOCATION:Teatro Consorziale di Budrio\, Via Garibaldi 35\, Budrio BO\, 40054\, Italia
CATEGORIES:evento,ocarina,orchestra giovanile
ATTACH;FMTTYPE=image/jpeg:https://www.iltemporale.it/it/wp-content/uploads/2026/04/Gran-Gala-dell-Ocarina-e1776098264160.jpg
END:VEVENT
END:VCALENDAR