BEGIN:VCALENDAR
VERSION:2.0
PRODID:-// - ECPv6.15.17.1//NONSGML v1.0//EN
CALSCALE:GREGORIAN
METHOD:PUBLISH
X-ORIGINAL-URL:https://www.iltemporale.it/it
X-WR-CALDESC:Eventi per 
REFRESH-INTERVAL;VALUE=DURATION:PT1H
X-Robots-Tag:noindex
X-PUBLISHED-TTL:PT1H
BEGIN:VTIMEZONE
TZID:Europe/Rome
BEGIN:DAYLIGHT
TZOFFSETFROM:+0100
TZOFFSETTO:+0200
TZNAME:CEST
DTSTART:20240331T010000
END:DAYLIGHT
BEGIN:STANDARD
TZOFFSETFROM:+0200
TZOFFSETTO:+0100
TZNAME:CET
DTSTART:20241027T010000
END:STANDARD
BEGIN:DAYLIGHT
TZOFFSETFROM:+0100
TZOFFSETTO:+0200
TZNAME:CEST
DTSTART:20250330T010000
END:DAYLIGHT
BEGIN:STANDARD
TZOFFSETFROM:+0200
TZOFFSETTO:+0100
TZNAME:CET
DTSTART:20251026T010000
END:STANDARD
BEGIN:DAYLIGHT
TZOFFSETFROM:+0100
TZOFFSETTO:+0200
TZNAME:CEST
DTSTART:20260329T010000
END:DAYLIGHT
BEGIN:STANDARD
TZOFFSETFROM:+0200
TZOFFSETTO:+0100
TZNAME:CET
DTSTART:20261025T010000
END:STANDARD
END:VTIMEZONE
BEGIN:VEVENT
DTSTART;TZID=Europe/Rome:20251128T210000
DTEND;TZID=Europe/Rome:20251128T220000
DTSTAMP:20260421T104307
CREATED:20251123T205850Z
LAST-MODIFIED:20251123T210039Z
UID:7393-1764363600-1764367200@www.iltemporale.it
SUMMARY:BISOGNA ASSOMIGLIARE ALLE PAROLE CHE SI DICONO
DESCRIPTION:BISOGNA ASSOMIGLIARE ALLE PAROLE CHE SI DICONO\n Reading teatrale dedicato a Stefano Benni\nVENERDÌ 28 NOVEMBRE ORE 21\nSala Teatro Sangiorgese “Giulietta” \nLe parole possono cambiare le cose — se assomigliano a chi le dice.Un omaggio al genio\, all’ironia e alla fantasia di Stefano Benni\, portato in scena dalla Compagnia del Temporale. \nUna serata di teatro e letteratura\, tra musica\, emozione e poesia\, per ritrovare le parole che ci somigliano. \nIngresso libero \nInfo e prenotazioni:biblioteca.sg@renogalliera.it051 6638529WhatsApp 335 8411570
URL:https://www.iltemporale.it/it/evento/bisogna-assomigliare-alle-parole-che-si-dicono/
LOCATION:Sala Giulietta Masina\, via Mario Melloni 2\, San Giorgio di Piano\, Bologgna\, 40016\, Italia
CATEGORIES:evento,teatro
ATTACH;FMTTYPE=image/jpeg:https://www.iltemporale.it/it/wp-content/uploads/2025/11/BISOGNA-ASSOMIGLIARE-ALLE-PAROLE-CHE-SI-DICONO.jpg
END:VEVENT
BEGIN:VEVENT
DTSTART;TZID=Europe/Rome:20251129T180000
DTEND;TZID=Europe/Rome:20251129T190000
DTSTAMP:20260421T104307
CREATED:20251123T204125Z
LAST-MODIFIED:20251123T205019Z
UID:7390-1764439200-1764442800@www.iltemporale.it
SUMMARY:L'ORCHESTRA GIOVANILE BENTIVOGLIO INCANTA LA COREA
DESCRIPTION:SABATO 29 NOVEMBRE ORE 18:00\nVilla Smeraldi  S. Marina\,35 – Bentivoglio\nL’ORCHESTRA GIOVANILE BENTIVOGLIO INCANTA LA COREA\nLA SINDACA ALICE VECCHI DIALOGA CONL’ENSEMBLE GIOVANILE DEL “IL TEMPORALE”\nL’esperienza internazionale\, i prestigiosi teatri e la collaborazione coi musicisti coreani raccontata in video reportage e performance musicali dal vivo. \n 
URL:https://www.iltemporale.it/it/evento/lorchestra-giovanile-bentivoglio-incanta-la-corea/
CATEGORIES:evento,orchestra giovanile
ATTACH;FMTTYPE=image/jpeg:https://www.iltemporale.it/it/wp-content/uploads/2025/11/ORCHESTRA-GIOVANILE-BenTiVoglio-INCANTA-LA-COREA.jpg
END:VEVENT
END:VCALENDAR