BEGIN:VCALENDAR
VERSION:2.0
PRODID:-// - ECPv6.15.17.1//NONSGML v1.0//EN
CALSCALE:GREGORIAN
METHOD:PUBLISH
X-ORIGINAL-URL:https://www.iltemporale.it/it
X-WR-CALDESC:Eventi per 
REFRESH-INTERVAL;VALUE=DURATION:PT1H
X-Robots-Tag:noindex
X-PUBLISHED-TTL:PT1H
BEGIN:VTIMEZONE
TZID:Europe/Rome
BEGIN:DAYLIGHT
TZOFFSETFROM:+0100
TZOFFSETTO:+0200
TZNAME:CEST
DTSTART:20240331T010000
END:DAYLIGHT
BEGIN:STANDARD
TZOFFSETFROM:+0200
TZOFFSETTO:+0100
TZNAME:CET
DTSTART:20241027T010000
END:STANDARD
BEGIN:DAYLIGHT
TZOFFSETFROM:+0100
TZOFFSETTO:+0200
TZNAME:CEST
DTSTART:20250330T010000
END:DAYLIGHT
BEGIN:STANDARD
TZOFFSETFROM:+0200
TZOFFSETTO:+0100
TZNAME:CET
DTSTART:20251026T010000
END:STANDARD
BEGIN:DAYLIGHT
TZOFFSETFROM:+0100
TZOFFSETTO:+0200
TZNAME:CEST
DTSTART:20260329T010000
END:DAYLIGHT
BEGIN:STANDARD
TZOFFSETFROM:+0200
TZOFFSETTO:+0100
TZNAME:CET
DTSTART:20261025T010000
END:STANDARD
END:VTIMEZONE
BEGIN:VEVENT
DTSTART;TZID=Europe/Rome:20250920T160000
DTEND;TZID=Europe/Rome:20250920T180000
DTSTAMP:20260421T132243
CREATED:20250918T063007Z
LAST-MODIFIED:20250918T092902Z
UID:7307-1758384000-1758391200@www.iltemporale.it
SUMMARY:OPEN DAY della Scuola di Musica
DESCRIPTION:Musica nell’aria sotto al tendone\nOPEN DAY della Scuola di Musica\nSabato 20 SETTEMBRE dalle 16:00 alle 18:00\nVieni a conoscere la nostra scuola di musica in un pomeriggio speciale! \nTutti gli insegnanti saranno presenti per rispondere alle tue domande\, raccontare i corsi e guidarti nella scelta dello strumento più adatto. Potrai ascoltare concerti\, mini-esibizioni e tanta musica dal vivo! Gli insegnanti si alterneranno sul palco per mostrare il mondo musicale che ti aspetta. Potrai prenotare lezioni gratuite di prova per scoprire gli strumenti della scuola! Un evento per bambini\, ragazzi e famiglie\, in un’atmosfera giocosa e accogliente. \nTi aspettiamo per iniziare insieme un anno pieno di musica!
URL:https://www.iltemporale.it/it/evento/open-day-della-scuola-di-musica/
LOCATION:Centro sociale Falcone e Borsellino\, Via Fosse Ardeatine\, 5\, San Giorgio di Piano (BO)\, 40016
CATEGORIES:corsi,scuola di musica
ATTACH;FMTTYPE=image/jpeg:https://www.iltemporale.it/it/wp-content/uploads/2025/09/Open-Day-2025.jpg
END:VEVENT
END:VCALENDAR