BEGIN:VCALENDAR
VERSION:2.0
PRODID:-// - ECPv6.15.17.1//NONSGML v1.0//EN
CALSCALE:GREGORIAN
METHOD:PUBLISH
X-ORIGINAL-URL:https://www.iltemporale.it/it
X-WR-CALDESC:Eventi per 
REFRESH-INTERVAL;VALUE=DURATION:PT1H
X-Robots-Tag:noindex
X-PUBLISHED-TTL:PT1H
BEGIN:VTIMEZONE
TZID:Europe/Rome
BEGIN:DAYLIGHT
TZOFFSETFROM:+0100
TZOFFSETTO:+0200
TZNAME:CEST
DTSTART:20240331T010000
END:DAYLIGHT
BEGIN:STANDARD
TZOFFSETFROM:+0200
TZOFFSETTO:+0100
TZNAME:CET
DTSTART:20241027T010000
END:STANDARD
BEGIN:DAYLIGHT
TZOFFSETFROM:+0100
TZOFFSETTO:+0200
TZNAME:CEST
DTSTART:20250330T010000
END:DAYLIGHT
BEGIN:STANDARD
TZOFFSETFROM:+0200
TZOFFSETTO:+0100
TZNAME:CET
DTSTART:20251026T010000
END:STANDARD
BEGIN:DAYLIGHT
TZOFFSETFROM:+0100
TZOFFSETTO:+0200
TZNAME:CEST
DTSTART:20260329T010000
END:DAYLIGHT
BEGIN:STANDARD
TZOFFSETFROM:+0200
TZOFFSETTO:+0100
TZNAME:CET
DTSTART:20261025T010000
END:STANDARD
END:VTIMEZONE
BEGIN:VEVENT
DTSTART;TZID=Europe/Rome:20250607T180000
DTEND;TZID=Europe/Rome:20250607T193000
DTSTAMP:20260421T173219
CREATED:20250304T193127Z
LAST-MODIFIED:20250809T110925Z
UID:7047-1749319200-1749324600@www.iltemporale.it
SUMMARY:NOI DOBBIAMO ANDARE IN SCENA
DESCRIPTION:NOI DOBBIAMO ANDARE IN SCENA\nSABATO 7 GIUGNO ORE 18 \nRegia di Fabrizia Lotta \nCompagnia del Temporale piccoli attori \nCon Elisabetta Albertazzi\, Gregorio Bonfiglioli\, Achille Bonsi\, Alice Bradamanti\, Eric Gabriel\, Leonardo Cocchi\, Estelle Giannotta\, Christopher Aaron\, Alice Magri\, Diego Mastrogiovanni\, Alina Pepe\, Denise Ricciardelli\, Francesco Roberto\, Beatrice Sabattini\, Giorgio Vecchietti. \nPiccoli attori molto tesi\, un provino\, un regista misterioso. \nStorie e personaggi diversi\, a confronto ma che si ritrovano insieme\, uniti\, nella stessa passione per il teatro. Per tutti diventa il posto perfetto in cui voler restare per esprimere se stessi e tutto il loro mondo. \nTeatro Ragazzi per bambini. \n  \nPer info: fabrizialotta@libero.it  tel. 3386413365 \n  \nFa parte di Bologna Estate 2025\, il cartellone di attività promosso e coordinato dal Comune di Bologna e dalla Città metropolitana di Bologna – Territorio Turistico Bologna-Modena. \n 
URL:https://www.iltemporale.it/it/evento/7047/
LOCATION:Centro culturale tE:Ze\, Via Enrico Berlinguer\, 7\, Bentivoglio\, 40010\, Italia
CATEGORIES:evento,prosa,teatro
ATTACH;FMTTYPE=image/jpeg:https://www.iltemporale.it/it/wp-content/uploads/2025/03/Stagione-teatrale-Il-Temporale_2025.jpg
END:VEVENT
BEGIN:VEVENT
DTSTART;TZID=Europe/Rome:20250608T190000
DTEND;TZID=Europe/Rome:20250608T200000
DTSTAMP:20260421T173219
CREATED:20250526T155340Z
LAST-MODIFIED:20250526T155340Z
UID:7250-1749409200-1749412800@www.iltemporale.it
SUMMARY:SINFONIE PER LA RINASCITA
DESCRIPTION:SINFONIE PER LA RINASCITA\n8 GIUGNO 2025 – Domenica di Pentecoste \nPARROCCHIA SAN SALVATORE DI CASOLABotteghino di Zocca \nOre 16.00: Santa Messa e solenne benedizioneSeguirà: gara di torte e merenda condivisaMercatino\, giochi campestri e mini tornei \nOre 19.00: “Sinfonie per la rinascita”Concerto dell’Orchestra Giovanile BenTiVoglioDirettore: Emiliano BernagozziPresenta: Andrea Farinelli \nUn concerto di memoria e di speranza\,con musiche di Vivaldi\, Piazzolla\, Horner\, Morricone e altri… \n“Almeno una volta nella vita\, quando non stavamo bene o ci sentivamo giù di morale\, ci siamo rifugiati nella musica per ritrovare un po’ di sollievo.I momenti di difficoltà e di fragilità fanno parte della condizione umana\, soprattutto quando ci troviamo di fronte a tragedie come un’alluvione o la perdita prematura di una giovane vita.Ma la musica è un antidoto universale: riesce ad attraversare il dolore\, a lenire le ferite\, a ridare forza.È da questo spirito che nasce questo concerto\, eseguito dall’orchestra d’archi della scuola di musica “Il Temporale” e presentato da Andrea Farinelli\, fratello della vittima dell’alluvione dell’ottobre 2024.Un evento rivolto a tutti\, con la speranza che\, attraverso le note e le parole\, possiate ritrovare un momento di pace interiore e di riflessione condivisa.”                                      Andrea Farinelli \n \n  \n  \n 
URL:https://www.iltemporale.it/it/evento/sinfonie-per-la-rinascita/
CATEGORIES:evento,orchestra giovanile
ATTACH;FMTTYPE=image/jpeg:https://www.iltemporale.it/it/wp-content/uploads/2025/05/sinfonie-per-la-rinascita-e1748274662252.jpg
END:VEVENT
BEGIN:VEVENT
DTSTART;TZID=Europe/Rome:20250610T173000
DTEND;TZID=Europe/Rome:20250610T183000
DTSTAMP:20260421T173219
CREATED:20250603T194438Z
LAST-MODIFIED:20250603T194438Z
UID:7257-1749576600-1749580200@www.iltemporale.it
SUMMARY:SAGGIO MUSICAL & CORO
DESCRIPTION:SAGGIO MUSICAL & CORO\nMartedì 10 GIUGNO ore 17:30\ntE:Ze Via Enrico Berlinguer\, 7 – Bentivoglio\nSAGGIO MUSICAL & CORO \nRE LEONE con Aida Mancuso\, Bianca Boniolo\, Lucia Zaniboni\, Alice Zanin ed Olivia ZavagliMEDLEY DISNEY con Ilaria Libardi & Francesca Greco \nIngresso gratuito
URL:https://www.iltemporale.it/it/evento/saggio-musical-coro/
LOCATION:Centro culturale tE:Ze\, Via Enrico Berlinguer\, 7\, Bentivoglio\, 40010\, Italia
CATEGORIES:scuola di musica
ATTACH;FMTTYPE=image/jpeg:https://www.iltemporale.it/it/wp-content/uploads/2025/05/saggio-musical-e-coro-IL-TEMPORALE-e1748277346232.jpg
END:VEVENT
BEGIN:VEVENT
DTSTART;TZID=Europe/Rome:20250613T210000
DTEND;TZID=Europe/Rome:20250613T223000
DTSTAMP:20260421T173219
CREATED:20250523T130251Z
LAST-MODIFIED:20250523T141230Z
UID:7171-1749848400-1749853800@www.iltemporale.it
SUMMARY:W Strauss\, omaggio al Re del valzer
DESCRIPTION:W Strauss\,\nomaggio al Re del valzer\n  \nVENERDI’ 13 GIUGNO ore 21.00\nOrchestra Giovanile BenTiVoglio \nCompagnia di Danze Storiche 8cento\nDirezione: Emiliano Bernagozzi\nNel cortile estivo del Castello di Bentivoglio \n  \nNel 2025 il re del valzer Johann Strauss II compie il proprio 200° compleanno\, l’Orchestra BenTiVoglio e la Compagnia di Danza 8 cento colgono l’occasione di questo anniversario per celebrare la famiglia Strauss. Un tuffo nel cuore della Vienna del XIX secolo\, dove la magia del valzer prende vita. Con le sue melodie incantevoli e l’eleganza senza tempo delle sue composizioni Strauss ha fatto danzare intere generazioni. Le note della sua musica si intrecceranno con i passi aggraziati dei ballerini\, che trasporteranno il pubblico in un’atmosfera da sogno\, dove ogni valzer diventa un racconto\, ogni passo una poesia. Un’occasione unica per immergersi nella raffinatezza e nella gioia che solo Strauss sapeva evocare. \n 
URL:https://www.iltemporale.it/it/evento/w-strauss-omaggio-al-re-del-valzer/
LOCATION:Castello di Bentivoglio\, Via Saliceto\, 1\, Bentivoglio\, Bologna\, 40010\, Italia
CATEGORIES:evento,festival musica da camera,orchestra giovanile
ATTACH;FMTTYPE=image/jpeg:https://www.iltemporale.it/it/wp-content/uploads/2025/05/W-STRAUSS_Orchestra-Giovanile-Bentivoglio-e1748005358803.jpg
END:VEVENT
BEGIN:VEVENT
DTSTART;TZID=Europe/Rome:20250615T210000
DTEND;TZID=Europe/Rome:20250615T223000
DTSTAMP:20260421T173219
CREATED:20250523T131045Z
LAST-MODIFIED:20250609T142710Z
UID:7176-1750021200-1750026600@www.iltemporale.it
SUMMARY:Omaggio al Re del valzer. W Strauss
DESCRIPTION:W Strauss\,\nomaggio al Re del valzer\n. \nDOMENICA 15 GIUGNO ore 21.00\nOrchestra Giovanile BenTiVoglio\nDirezione: Emiliano Bernagozzi\n  \nPiazza Corte dei Liutai\, Pieve di Cento BO \n  \nNel 2025 il re del valzer Johann Strauss II compie il proprio 200° compleanno\, l’Orchestra BenTiVoglio coglie l’occasione di questo anniversario per celebrare la famiglia Strauss. Un’occasione unica per immergersi nella raffinatezza e nella gioia che solo Strauss sapeva evocare. \n 
URL:https://www.iltemporale.it/it/evento/omaggio-al-re-del-valzer-w-strauss/
CATEGORIES:evento,festival musica da camera,orchestra giovanile
ATTACH;FMTTYPE=image/jpeg:https://www.iltemporale.it/it/wp-content/uploads/2025/05/W-STRAUSS_Orchestra-Giovanile-Bentivoglio-_rep-e1748005741268.jpg
END:VEVENT
BEGIN:VEVENT
DTSTART;TZID=Europe/Rome:20250616T210000
DTEND;TZID=Europe/Rome:20250616T223000
DTSTAMP:20260421T173219
CREATED:20250523T132639Z
LAST-MODIFIED:20250616T120424Z
UID:7187-1750107600-1750113000@www.iltemporale.it
SUMMARY:Happy Days
DESCRIPTION:Happy Days\,\n zibaldone musicale per ottoni in festa\n  \nLUNEDI’ 16 GIUGNO ore 21.00\nBentivoglio Brass\nDirezione: Luigi Zardi e Gianluigi Paganelli\nApertura del concerto con Orchestra BenTiVoglio Junior\nNel cortile estivo del Castello di Bentivoglio – In caso di maltempo\, il concerto si svolgerà a soli 300 metri dal Castello\, presso il Centro del Volontariato – Via Enrico Berlinguer\, 5/2. \n  \nLa Brass Band Bentivoglio è un gruppo dinamico e vitale\, nato all’interno della scuola di musica Il Temporale è composto da giovani\, adulti e docenti. Un ensemble che\, grazie all’energia dei due direttori\, cresce costantemente\, attirando un numero sempre maggiore di partecipanti\, uniti dalla passione per la musica e dal desiderio di condividere emozioni. Il repertorio\, ampio e variegato\, spazia attraverso diversi generi e periodi storici: dalla musica antica che ci parla di tempi lontani\, alla musica pop che tutti amiamo\, passando per le colonne sonore che ci accompagnano nei film dei nostri cuori\, fino ad arrivare alla musica contemporanea che esplora nuove sonorità. Ogni brano è un invito a vivere insieme una festa musicale\, un momento di gioia e di condivisione\, dove ogni nota e ogni ritmo raccontano una storia. \n“Happy Days”\, un viaggio sonoro che non vediamo l’ora di condividere con voi! \n  \n 
URL:https://www.iltemporale.it/it/evento/happy-days/
LOCATION:Castello di Bentivoglio\, Via Saliceto\, 1\, Bentivoglio\, Bologna\, 40010\, Italia
CATEGORIES:evento,festival musica da camera
ATTACH;FMTTYPE=image/jpeg:https://www.iltemporale.it/it/wp-content/uploads/2025/05/HAPPY-DAYS-Bentivoglio-Brass-Band-e1748006495511.jpg
END:VEVENT
BEGIN:VEVENT
DTSTART;TZID=Europe/Rome:20250627T203000
DTEND;TZID=Europe/Rome:20250627T220000
DTSTAMP:20260421T173219
CREATED:20250618T133248Z
LAST-MODIFIED:20250618T133248Z
UID:7276-1751056200-1751061600@www.iltemporale.it
SUMMARY:ALLA FINE DEL FILO
DESCRIPTION:ALLA FINE DEL FILO\nVENERDI’ 27 GIUGNO ORE 20\,30 \nPresso: TEATRO SALA ESTENSE FERRARA \n  \nRegia di Fabrizia Lotta \nCompagnia del Temporale \nCon Martina Cardinale\, Luca Donati\, Valentina Forlani\, Linda Frignani\, Eugenia Giannetti\, Veronica Lodi\, Antonella Lotito\, Donatella Margarito\, Chiara Martini\, Jacopo Tartarini.  \nE la partecipazione amichevole e speciale di: Giorgia Sica\, Riccardo Sica\, Elisa Zago \n\n\n\n\n\nProsa. Siamo tutti legati ad un filo o alla Terra? Si chiederebbe un aquilone. \nE quello che si chiedono tutti gli altri è chi troviamo alla fine del filo\, chi ci aspetta\, chi resta\, nonostante le distanze\, le pause\, le attese\, i silenzi\, i vuoti\, i litigi\, le incomprensioni\, le paure. Tutti hanno pensato almeno una volta che volevano restare da soli per un po’. \nIsole di solitudini legate indissolubilmente a qualcuno dal famoso filo rosso invisibile e leggendario. \nLeggerezza\, poesia\, riflessioni\, simpatia e tanta\, infinita speranza nel futuro. \nPersonaggi che sognano e amano. Loro sì che sperano come nessuno. \n\n\n\n\n\n\nCon il Patrocinio del Comune di Ferrara\nCdd Ferrara\nASSOCIAZIONE CULTURALE IL TEMPORALE
URL:https://www.iltemporale.it/it/evento/alla-fine-del-filo-2/
CATEGORIES:prosa,teatro
ATTACH;FMTTYPE=image/jpeg:https://www.iltemporale.it/it/wp-content/uploads/2025/04/ALLA-FINE-DEL-FILO_compagnia-teatrale-il-temporale-e1743688040440.jpg
END:VEVENT
BEGIN:VEVENT
DTSTART;TZID=Europe/Rome:20250627T210000
DTEND;TZID=Europe/Rome:20250627T223000
DTSTAMP:20260421T173219
CREATED:20250523T134421Z
LAST-MODIFIED:20250523T141458Z
UID:7196-1751058000-1751063400@www.iltemporale.it
SUMMARY:Testacce di legno
DESCRIPTION:Testacce di legno\,\nil grande teatro dei burattini\n  \nVENERDI’ 27 GIUGNO ore 21.00\nBurattini a Bologna\nNel cortile estivo del Castello di Bentivoglio \n  \nEsilaranti avventure ci aspettano! I protagonisti sono i burattini bolognesi Fagiolino e Sganapino amici inseparabili che\, senza un quattrino\, scanzonati per natura cercano sempre qualche espediente per contenere la loro fame… Un appuntamento imperdibile per ridere insieme sotto il segno dell’antica tradizione burattinaia bolognese. \n  \n 
URL:https://www.iltemporale.it/it/evento/testacce-di-legno/
LOCATION:Castello di Bentivoglio\, Via Saliceto\, 1\, Bentivoglio\, Bologna\, 40010\, Italia
CATEGORIES:Burattini,evento,festival musica da camera
ATTACH;FMTTYPE=image/jpeg:https://www.iltemporale.it/it/wp-content/uploads/2025/05/TESTACCE-DI-LEGNO_Burattini-Bologna-e1748007734408.jpg
END:VEVENT
END:VCALENDAR