BEGIN:VCALENDAR
VERSION:2.0
PRODID:-// - ECPv6.15.17.1//NONSGML v1.0//EN
CALSCALE:GREGORIAN
METHOD:PUBLISH
X-ORIGINAL-URL:https://www.iltemporale.it/it
X-WR-CALDESC:Eventi per 
REFRESH-INTERVAL;VALUE=DURATION:PT1H
X-Robots-Tag:noindex
X-PUBLISHED-TTL:PT1H
BEGIN:VTIMEZONE
TZID:Europe/Rome
BEGIN:DAYLIGHT
TZOFFSETFROM:+0100
TZOFFSETTO:+0200
TZNAME:CEST
DTSTART:20240331T010000
END:DAYLIGHT
BEGIN:STANDARD
TZOFFSETFROM:+0200
TZOFFSETTO:+0100
TZNAME:CET
DTSTART:20241027T010000
END:STANDARD
BEGIN:DAYLIGHT
TZOFFSETFROM:+0100
TZOFFSETTO:+0200
TZNAME:CEST
DTSTART:20250330T010000
END:DAYLIGHT
BEGIN:STANDARD
TZOFFSETFROM:+0200
TZOFFSETTO:+0100
TZNAME:CET
DTSTART:20251026T010000
END:STANDARD
BEGIN:DAYLIGHT
TZOFFSETFROM:+0100
TZOFFSETTO:+0200
TZNAME:CEST
DTSTART:20260329T010000
END:DAYLIGHT
BEGIN:STANDARD
TZOFFSETFROM:+0200
TZOFFSETTO:+0100
TZNAME:CET
DTSTART:20261025T010000
END:STANDARD
END:VTIMEZONE
BEGIN:VEVENT
DTSTART;TZID=Europe/Rome:20250404T203000
DTEND;TZID=Europe/Rome:20250404T223000
DTSTAMP:20260421T200155
CREATED:20250304T183542Z
LAST-MODIFIED:20250401T131327Z
UID:7038-1743798600-1743805800@www.iltemporale.it
SUMMARY:OPEN THEATER
DESCRIPTION:OPEN THEATER\nVENERDI’ 4 APRILE ORE 20\,30\nLa festa del Teatro per gli attori adulti. \nSerata di corti teatrali selezionati ed improvvisazione teatrale.  \nAttori e spettatori\, un solo palcoscenico. \nEvento di condivisione teatrale e del nostro palcoscenico per tutte le realtà teatrali del territorio. \n  \nPer info: fabrizialotta@libero.it  tel. 3386413365 \n 
URL:https://www.iltemporale.it/it/evento/open-theater/
LOCATION:Centro culturale tE:Ze\, Via Enrico Berlinguer\, 7\, Bentivoglio\, 40010\, Italia
CATEGORIES:evento,prosa,teatro
ATTACH;FMTTYPE=image/jpeg:https://www.iltemporale.it/it/wp-content/uploads/2023/04/un-palco-per-tutti-e1681222285236.jpg
END:VEVENT
BEGIN:VEVENT
DTSTART;TZID=Europe/Rome:20250405T203000
DTEND;TZID=Europe/Rome:20250406T190000
DTSTAMP:20260421T200155
CREATED:20250328T172714Z
LAST-MODIFIED:20250331T124529Z
UID:7093-1743885000-1743966000@www.iltemporale.it
SUMMARY:OCARINA RAVE 2025
DESCRIPTION:5 aprile\, ore 21:00 – Chiesa di San Marino di Bentivoglio \n🎵 In viaggio fra i Paesi\nShinazaka and Friends\, Giappone e Italia con l’Ocarina\nLasciati trasportare dalle note internazionali che uniscono Oriente e Occidente. \n\n\n\n\n6 aprile\, ore 10:00 – Centro Culturale tE-Zè\n🎼 In viaggio fra i Generi musicali\nLa Filuzzeria and Friends\nDal valzer alla sarabanda\, fino alle sinfonie con l’Ocarina: un’esplorazione musicale sorprendente. \n\n\n\n\n6 aprile\, ore 17:00 – Sala Giulietta Masina\, San Giorgio di Piano\n✨ In viaggio fra i Virtuosi\nEmiliano Bernagozzi and Friends con l’Orchestra Giovanile BenTiVoglio\nL’eleganza e il talento dei migliori interpreti al servizio dell’Ocarina. \n  \nINGRESSO LIBERO \nTUTTE  LE  INFO: https://www.ocarinarave.it/2025/02/11/ocarina-rave-2025/
URL:https://www.iltemporale.it/it/evento/ocarina-rave-2025/
CATEGORIES:evento,ocarina,orchestra giovanile
ATTACH;FMTTYPE=image/jpeg:https://www.iltemporale.it/it/wp-content/uploads/2025/03/00_Programma-Ocarina-Rave-2025.jpg
END:VEVENT
BEGIN:VEVENT
DTSTART;TZID=Europe/Rome:20250412T210000
DTEND;TZID=Europe/Rome:20250412T223000
DTSTAMP:20260421T200155
CREATED:20250304T183959Z
LAST-MODIFIED:20250407T141604Z
UID:7040-1744491600-1744497000@www.iltemporale.it
SUMMARY:LA RACCHIA RAPITA
DESCRIPTION:LA RACCHIA RAPITA\ndi Paolo Cappelloni \nSABATO 12 APRILE ORE 21 \nTeatralmente Instabili  \nRegia di Margarida Batista\ncon Gabriele Bernardini\, Giulia Cavallari\, Mauro Maro\, Marco Mazza\, Francesca Bergami\, Bianca Lui. \n\nCommedia. Le ristrettezze economiche fanno fare pazzie! Ecco quindi che quattro amici decidono di rapire una ricca signora per poterne chiedere il riscatto. Ma per fare i delinquenti bisogna essere capaci altrimenti si possono commettere grossolani errori. Ne nasce una commedia brillante non priva di colpi di scena. \nPer info: fabrizialotta@libero.it  tel. 3386413365 \n 
URL:https://www.iltemporale.it/it/evento/la-racchia-rapita/
LOCATION:Centro culturale tE:Ze\, Via Enrico Berlinguer\, 7\, Bentivoglio\, 40010\, Italia
CATEGORIES:evento,prosa,teatro
ATTACH;FMTTYPE=image/jpeg:https://www.iltemporale.it/it/wp-content/uploads/2025/03/TEATRO-STAGIONE_IL-TEMPORALE-2025.jpg
END:VEVENT
BEGIN:VEVENT
DTSTART;TZID=Europe/Rome:20250412T210000
DTEND;TZID=Europe/Rome:20250412T223000
DTSTAMP:20260421T200155
CREATED:20250327T175206Z
LAST-MODIFIED:20250327T175206Z
UID:7086-1744491600-1744497000@www.iltemporale.it
SUMMARY:GRAN GALA DELL'OCARINA
DESCRIPTION:Festival Internazionale dell’Ocarina  \nGran Gala dell’Ocarina\n12 APRILE ore 21\,00\npresso Teatro Consorziale di Budrio \nLa Serata di Gala del Festival celebra due prestigiose realtà musicali del territorio: l’esperienza del Gruppo Ocarinistico Budriese e la straordinaria varietà dell’Orchestra Giovanile BenTiVoglio. \nProgramma musicale\nGOB\nFotografie di Emiliano Bernagozzi\nGoodnight Suite di Johachim Johov \nORCHESTRA GIOVANILE BENTIVOGLIO\nConcerto in sol maggiore di Tomaso Albinoni\, trascrizione per due ocarine e archi di Emiliano Bernagozzi\nNuovo Cinema Paradiso di Ennio Morricone\, ocarina solista Marco Venturuzzo\nMini Concertino di Daniel Hellbach\, ocarina solista Giulio Boccaletti\nFantasia e variazioni sul Carnevale di Venezia di Emiliano Bernagozzi\, ocarina solista Emiliano Bernagozzi \nINSIEME\nShield the fading di Michael Barrera\, orchestra d’archi e settimino di ocarine \nINGRESSO GRATUITO\, CON PRENOTAZIONE:  https://www.boxol.it/next/it/Entroterre/select-ticket/557917 \n 
URL:https://www.iltemporale.it/it/evento/gran-gala-dellocarina/
LOCATION:Teatro Consorziale di Budrio\, Via Garibaldi 35\, Budrio BO\, 40054\, Italia
CATEGORIES:evento,ocarina,orchestra giovanile
ATTACH;FMTTYPE=image/jpeg:https://www.iltemporale.it/it/wp-content/uploads/2025/03/Gran-Gala-dellOcarina-e1743097654819.jpg
END:VEVENT
END:VCALENDAR