BEGIN:VCALENDAR
VERSION:2.0
PRODID:-// - ECPv6.15.17.1//NONSGML v1.0//EN
CALSCALE:GREGORIAN
METHOD:PUBLISH
X-ORIGINAL-URL:https://www.iltemporale.it/it
X-WR-CALDESC:Eventi per 
REFRESH-INTERVAL;VALUE=DURATION:PT1H
X-Robots-Tag:noindex
X-PUBLISHED-TTL:PT1H
BEGIN:VTIMEZONE
TZID:Europe/Rome
BEGIN:DAYLIGHT
TZOFFSETFROM:+0100
TZOFFSETTO:+0200
TZNAME:CEST
DTSTART:20240331T010000
END:DAYLIGHT
BEGIN:STANDARD
TZOFFSETFROM:+0200
TZOFFSETTO:+0100
TZNAME:CET
DTSTART:20241027T010000
END:STANDARD
BEGIN:DAYLIGHT
TZOFFSETFROM:+0100
TZOFFSETTO:+0200
TZNAME:CEST
DTSTART:20250330T010000
END:DAYLIGHT
BEGIN:STANDARD
TZOFFSETFROM:+0200
TZOFFSETTO:+0100
TZNAME:CET
DTSTART:20251026T010000
END:STANDARD
BEGIN:DAYLIGHT
TZOFFSETFROM:+0100
TZOFFSETTO:+0200
TZNAME:CEST
DTSTART:20260329T010000
END:DAYLIGHT
BEGIN:STANDARD
TZOFFSETFROM:+0200
TZOFFSETTO:+0100
TZNAME:CET
DTSTART:20261025T010000
END:STANDARD
END:VTIMEZONE
BEGIN:VEVENT
DTSTART;TZID=Europe/Rome:20250302T173000
DTEND;TZID=Europe/Rome:20250302T213000
DTSTAMP:20260421T212308
CREATED:20250128T180722Z
LAST-MODIFIED:20250129T154905Z
UID:6974-1740936600-1740951000@www.iltemporale.it
SUMMARY:Concerto di Carnevale Orchestra Giovanile BenTiVoglio
DESCRIPTION:L’Orchestra Giovanile BenTiVoglio è lieta di invitarvi al\nConcerto di Carnevale\nGran Galà in maschera + Dj Set\nUn pomeriggio di musica\, mistero e divertimento\nDOMENICA 2 MARZO ore 17.30\nPalestra delle Arti Giulietta Masina a San Giorgio di Piano \n  \nDress code: travestimento obbligatorio\, scegli il tuo personaggio e lasciati travolgere dalla musica! \nNell’ambito della serata sarà premiata la maschera più bella \nNon vuoi travestirti? Puoi assistere alla prova generale aperta al pubblico alle 15.00 \nINGRESSO LIBERO – Prenotazione obbligatoria:  \nbiblioteca.sg@renogalliera.it – Tel 051.6638529 \n 
URL:https://www.iltemporale.it/it/evento/concerto-di-carnevale-orchestra-giovanile-bentivoglio/
LOCATION:Sala Giulietta Masina\, via Mario Melloni 2\, San Giorgio di Piano\, Bologgna\, 40016\, Italia
CATEGORIES:evento,orchestra giovanile
ATTACH;FMTTYPE=image/jpeg:https://www.iltemporale.it/it/wp-content/uploads/2025/01/Concerto-di-Carnevale_Orchestra-Giovanile-BenTiVoglio_2025.jpg
END:VEVENT
BEGIN:VEVENT
DTSTART;TZID=Europe/Rome:20250315T203000
DTEND;TZID=Europe/Rome:20250315T220000
DTSTAMP:20260421T212308
CREATED:20250304T182153Z
LAST-MODIFIED:20250304T182153Z
UID:7029-1742070600-1742076000@www.iltemporale.it
SUMMARY:OPEN THEATER Ragazzi
DESCRIPTION:OPEN THEATER Ragazzi\nSABATO 15 MARZO ORE 20.30\nLa festa del Teatro per gli attori più piccoli\, dai 10 ai 18 anni. \nSerata di corti teatrali selezionati ed improvvisazione teatrale.  \nAttori e spettatori\, un solo palcoscenico. \nEvento di condivisione teatrale e del nostro palcoscenico per tutte le realtà teatrali del territorio. \nPer info: fabrizialotta@libero.it  tel. 3386413365
URL:https://www.iltemporale.it/it/evento/open-theater-ragazzi/
LOCATION:Centro culturale tE:Ze\, Via Enrico Berlinguer\, 7\, Bentivoglio\, 40010\, Italia
CATEGORIES:evento,prosa,teatro
ATTACH;FMTTYPE=image/jpeg:https://www.iltemporale.it/it/wp-content/uploads/2023/04/un-palco-per-tutti-e1681222285236.jpg
END:VEVENT
BEGIN:VEVENT
DTSTART;TZID=Europe/Rome:20250322T080000
DTEND;TZID=Europe/Rome:20250322T210000
DTSTAMP:20260421T212308
CREATED:20250317T101303Z
LAST-MODIFIED:20250317T101303Z
UID:7063-1742630400-1742677200@www.iltemporale.it
SUMMARY:GIOVANI NOTE\, GRANDI IDEE!
DESCRIPTION:Quarta edizione del (Piccolo) Festival della Divulgazione! \nGIOVANI NOTE\, GRANDI IDEE !\n22 MARZO ore 21\nOrchestra Giovanile Il Temporale con Michele Serra \nTeatro Alice Zeppilli\, Pieve di Cento \nUn evento gratuito che unisce musica e conoscenza.
URL:https://www.iltemporale.it/it/evento/giovani-note-grandi-idee/
LOCATION:Teatro comunale Alice Zeppilli\, Piazza Andrea Costa 17\, Pieve di Cento BO\, 40066\, Italia
CATEGORIES:evento,orchestra giovanile
ATTACH;FMTTYPE=image/jpeg:https://www.iltemporale.it/it/wp-content/uploads/2025/03/Orchestra-Giovanile-BenTiVoglio-teatro-e1742206246170.jpg
END:VEVENT
BEGIN:VEVENT
DTSTART;TZID=Europe/Rome:20250322T210000
DTEND;TZID=Europe/Rome:20250322T223000
DTSTAMP:20260421T212308
CREATED:20250304T182115Z
LAST-MODIFIED:20250304T182115Z
UID:7032-1742677200-1742682600@www.iltemporale.it
SUMMARY:READING CINEMA
DESCRIPTION:READING CINEMA\nSABATO 22 MARZO ORE 21 \nRegia di Fabrizia Lotta \nCompagnia del Temporale  \nCon Martina Cardinale\, Luca Donati\, Valentina Forlani\, Linda Frignani\, Eugenia Giannetti\, Veronica Lodi\, Antonella Lotito\, Donatella Margarito\, Chiara Martini\, Jacopo Tartarini.  \nReading Teatrale e Commedia ispirati alle pagine più belle della storia del Cinema. \nStorie diverse e appassionate\, personaggi di estrema bellezza\, attori alla ricerca di se stessi\, emozioni dalle infinite sfumature. Passione e cultura\, teatro e cinema insieme. \nPer info: fabrizialotta@libero.it  tel. 3386413365
URL:https://www.iltemporale.it/it/evento/reading-cinema/
LOCATION:Centro culturale tE:Ze\, Via Enrico Berlinguer\, 7\, Bentivoglio\, 40010\, Italia
CATEGORIES:evento,prosa,teatro
ATTACH;FMTTYPE=image/jpeg:https://www.iltemporale.it/it/wp-content/uploads/2025/03/Stagione-teatrale-cinema-2025-Il-Temporale-e1741109534891.jpg
END:VEVENT
BEGIN:VEVENT
DTSTART;TZID=Europe/Rome:20250328T210000
DTEND;TZID=Europe/Rome:20250328T223000
DTSTAMP:20260421T212308
CREATED:20250304T182926Z
LAST-MODIFIED:20250304T182926Z
UID:7035-1743195600-1743201000@www.iltemporale.it
SUMMARY:L’ONOREVOLE\, IL POETA E LA SIGNORA
DESCRIPTION:L’ONOREVOLE\, IL POETA E LA SIGNORA\nVENERDI’ 28 MARZO ORE 21\nRegia di Francesco Branchetti \nCon Lorenzo Flaherty\, Francesco Branchetti\, Isabella Giannone. \n  \nUna commedia esilarante\, grottesca ed attualissima del commediografo Aldo De Benedetti. La rappresentazione dei salotti dell’Italia pieni di uomini di mezzo potere\, girotondi di relazioni\, svendita di talento vero o presunto\, ambizioni. \nUna fitta trama di allusioni\, scambi\, dispetti e ricatti nella quale è l’intelligenza a mostrarsi nei suoi aspetti più divertenti. \nPer info: fabrizialotta@libero.it  tel. 3386413365 \n 
URL:https://www.iltemporale.it/it/evento/lonorevole-il-poeta-e-la-signora/
LOCATION:Centro culturale tE:Ze\, Via Enrico Berlinguer\, 7\, Bentivoglio\, 40010\, Italia
CATEGORIES:evento,prosa,teatro
ATTACH;FMTTYPE=image/jpeg:https://www.iltemporale.it/it/wp-content/uploads/2025/03/2025-TEATRO-STAGIONE_IL-TEMPORALE-1-scaled-e1741112936724.jpg
END:VEVENT
END:VCALENDAR