BEGIN:VCALENDAR
VERSION:2.0
PRODID:-// - ECPv6.15.17.1//NONSGML v1.0//EN
CALSCALE:GREGORIAN
METHOD:PUBLISH
X-ORIGINAL-URL:https://www.iltemporale.it/it
X-WR-CALDESC:Eventi per 
REFRESH-INTERVAL;VALUE=DURATION:PT1H
X-Robots-Tag:noindex
X-PUBLISHED-TTL:PT1H
BEGIN:VTIMEZONE
TZID:Europe/Rome
BEGIN:DAYLIGHT
TZOFFSETFROM:+0100
TZOFFSETTO:+0200
TZNAME:CEST
DTSTART:20230326T010000
END:DAYLIGHT
BEGIN:STANDARD
TZOFFSETFROM:+0200
TZOFFSETTO:+0100
TZNAME:CET
DTSTART:20231029T010000
END:STANDARD
BEGIN:DAYLIGHT
TZOFFSETFROM:+0100
TZOFFSETTO:+0200
TZNAME:CEST
DTSTART:20240331T010000
END:DAYLIGHT
BEGIN:STANDARD
TZOFFSETFROM:+0200
TZOFFSETTO:+0100
TZNAME:CET
DTSTART:20241027T010000
END:STANDARD
BEGIN:DAYLIGHT
TZOFFSETFROM:+0100
TZOFFSETTO:+0200
TZNAME:CEST
DTSTART:20250330T010000
END:DAYLIGHT
BEGIN:STANDARD
TZOFFSETFROM:+0200
TZOFFSETTO:+0100
TZNAME:CET
DTSTART:20251026T010000
END:STANDARD
END:VTIMEZONE
BEGIN:VEVENT
DTSTART;TZID=Europe/Rome:20241006T170000
DTEND;TZID=Europe/Rome:20241006T183000
DTSTAMP:20260422T035127
CREATED:20240918T174048Z
LAST-MODIFIED:20240918T181504Z
UID:6792-1728234000-1728239400@www.iltemporale.it
SUMMARY:CARL FRIEDRICH TANGO CONNECTION
DESCRIPTION:CARL FRIEDRICH TANGO CONNECTION\nDOMENICA 6 OTTOBRE ore 17.00.\ntE:Ze\, Bentivoglio \n. \nBettina Hartl\, fisarmonica\,\nThu Trang Sauer\, violino\,\nMathis Stendike\, percussioni\, corno\, tastiere \n  \nUn tempo il bandoneon\, l’anima del tango\, arrivò in Argentina\ncon gli emigranti tedeschi e tornò in Patria con il tango…. \nSeguendo il percorso musicale del tango\, i musicisti del C. F. Tango Connection sono sempre alla ricerca di nuove sonorità proprio secondo lo spirito da esploratore che animava Carl Friedrich Uhlig\, l’uomo che nel 1834 a Chemnitz inventò la Concertina\, dal cui sviluppo ha poi avuto origine il bandoneon.\nCon il corno\, lo hang\, la fisarmonica\, il violino elettronico\, il basso e ogni genere di percussioni i tre musicisti che arrivano da Berlino\, Chemnitz e Dresda attraversano le epoche\, dal medioevo al presente\, ritrovando e reinventando ogni volta le sonorità del tango. Li accompagnano nel viaggio sonoro le musiche di Carla Pugliese\, Arvo Pärt\, Astor Piazzolla\, danze protobarocche ma anche improvvisazioni estemporanee.\nIn collaborazione con il comitato per le celebrazioni di Chemnitz capitale della cultura 2025\, l’Ensemble Carl Friedrich Tango Connection si propone di far conoscere l’inventore del bandoneon\, Carl Friedrich Uhlig da Chemnitz e portare nel mondo le note ispirate del tango. \n\nFUORI PROGRAMMA: popolare brasiliano – Paçoca arr. per trio e ocarina di Mathis Sthendike\n\n. \nINGRESSO LIBERO
URL:https://www.iltemporale.it/it/evento/carl-friedrich-tango-connection/
LOCATION:Centro culturale tE:Ze\, Via Enrico Berlinguer\, 7\, Bentivoglio\, 40010\, Italia
CATEGORIES:festival musica da camera
ATTACH;FMTTYPE=image/jpeg:https://www.iltemporale.it/it/wp-content/uploads/2024/09/CARL-FRIEDRICH-TANGO-CONNECTION-e1726681302444.jpg
END:VEVENT
BEGIN:VEVENT
DTSTART;TZID=Europe/Rome:20241013T170000
DTEND;TZID=Europe/Rome:20241013T183000
DTSTAMP:20260422T035127
CREATED:20240918T180253Z
LAST-MODIFIED:20240918T191137Z
UID:6803-1728838800-1728844200@www.iltemporale.it
SUMMARY:PURA VIDA concerto Pre-Tour
DESCRIPTION:PURA VIDA concerto Pre-Tour\nBentivoglio Strings Ensemble\nDirettore Emiliano Bernagozzi \n. \nDOMENICA 13 OTTOBRE ore 17.00\nChiesa di Saletto\, Bentivoglio \n  \n\nAntonio Vivadi (1678-1741) Concerto dall’Estro Armonico n° 11 \nin re minore RV 565 per 2 violini violoncello e archi \n1 Allegro \n2 Adagio e spiccato \n3 Allegro \n4 Largo e spiccato \n5 Allegro \nFranco Parisini\, Ada Negroni\, violino; Edoardo Francescon\, violoncello \n. \nArcangelo Corelli (1653-1713) Concerto in Fa maggiore per oboe e archi \nsu temi di Arcangelo Corelli \n1 Preludio \n2 Allemanda \n3 Sarabanda \n4 Gavotta \n5 Giga \nLeonardo Carbone\, ocarina \n. \nAntonio Vivaldi (1678-1741) Concerto in La minore per oboe e archi RV 462 \n1 Allegro \n2 Largo \n3 Allegro \nEmiliano Bernagozzi\, ocarina \n. \nAntonio Vivaldi (1678-1741) Aria “Sovente il sole” da Andromeda liberata \nMarzia Baldassarri\, soprano; Franco Parisini\, violino \n. \nFUORI  PROGRAMMA: \nTomaso Albinoni (1671-1751) Concerto n°6 dai Sei Concerti op. 9 \n1 Allegro \n2 Adagio \n3 Allegro \nEmiliano Bernagozzi\, Leonardo Carbone\, ocarina \nTrascrizione per ocarina e archi di Emiliano Bernagozzi \n. \n\n\n.\nINGRESSO LIBERO\n 
URL:https://www.iltemporale.it/it/evento/pura-vida-concerto-pre-tour/
LOCATION:Chiesa di Saletto\, Via Saletto\, 123\, Saletto\, Bologna\, 40010\, Italia
CATEGORIES:festival musica da camera
ATTACH;FMTTYPE=image/jpeg:https://www.iltemporale.it/it/wp-content/uploads/2024/09/Orchestra-Giovanile-BenTiVoglio_IMM_0020-e1726682491831.jpg
END:VEVENT
END:VCALENDAR