BEGIN:VCALENDAR
VERSION:2.0
PRODID:-// - ECPv6.15.17.1//NONSGML v1.0//EN
CALSCALE:GREGORIAN
METHOD:PUBLISH
X-ORIGINAL-URL:https://www.iltemporale.it/it
X-WR-CALDESC:Eventi per 
REFRESH-INTERVAL;VALUE=DURATION:PT1H
X-Robots-Tag:noindex
X-PUBLISHED-TTL:PT1H
BEGIN:VTIMEZONE
TZID:Europe/Rome
BEGIN:DAYLIGHT
TZOFFSETFROM:+0100
TZOFFSETTO:+0200
TZNAME:CEST
DTSTART:20230326T010000
END:DAYLIGHT
BEGIN:STANDARD
TZOFFSETFROM:+0200
TZOFFSETTO:+0100
TZNAME:CET
DTSTART:20231029T010000
END:STANDARD
BEGIN:DAYLIGHT
TZOFFSETFROM:+0100
TZOFFSETTO:+0200
TZNAME:CEST
DTSTART:20240331T010000
END:DAYLIGHT
BEGIN:STANDARD
TZOFFSETFROM:+0200
TZOFFSETTO:+0100
TZNAME:CET
DTSTART:20241027T010000
END:STANDARD
BEGIN:DAYLIGHT
TZOFFSETFROM:+0100
TZOFFSETTO:+0200
TZNAME:CEST
DTSTART:20250330T010000
END:DAYLIGHT
BEGIN:STANDARD
TZOFFSETFROM:+0200
TZOFFSETTO:+0100
TZNAME:CET
DTSTART:20251026T010000
END:STANDARD
END:VTIMEZONE
BEGIN:VEVENT
DTSTART;TZID=Europe/Rome:20240504T210000
DTEND;TZID=Europe/Rome:20240504T220000
DTSTAMP:20260422T103930
CREATED:20240311T190831Z
LAST-MODIFIED:20240418T133646Z
UID:6495-1714856400-1714860000@www.iltemporale.it
SUMMARY:OGNI LASCIATA E’ PERSA
DESCRIPTION:OGNI LASCIATA E’ PERSA\nSABATO 4 MAGGIO ore 21\,00\ndi Laura Salvoro \nRegia di Margarida Batista \nCompagnia Teatralmente Instabili \nLa scena si svolge ai giorni nostri in una piccola pensione per uomini soli: una sorta di soluzione o rifugio per chi perde improvvisamente un legame matrimoniale o di convivenza. Qui si ritrovano a vivere i personaggi più disparati\, o disperati\, alla ricerca del loro lieto fine. Forse.
URL:https://www.iltemporale.it/it/evento/ogni-lasciata-e-persa/
LOCATION:Centro culturale tE:Ze\, Via Enrico Berlinguer\, 7\, Bentivoglio\, 40010\, Italia
CATEGORIES:evento,prosa,teatro
ATTACH;FMTTYPE=image/jpeg:https://www.iltemporale.it/it/wp-content/uploads/2024/03/teatro-il-temporale-aps-ogni-lasciata-e-persa-e1713447396839.jpg
END:VEVENT
BEGIN:VEVENT
DTSTART;TZID=Europe/Rome:20240507T170000
DTEND;TZID=Europe/Rome:20240507T183000
DTSTAMP:20260422T103930
CREATED:20240429T175854Z
LAST-MODIFIED:20240429T175854Z
UID:6638-1715101200-1715106600@www.iltemporale.it
SUMMARY:BIMBINBIBLIO
DESCRIPTION:BIMBINBIBLIO \nLetture e attività per bambini e bambine \nMARTEDI’  7  MAGGIO ore 17\,00\nBiblioteca a San Giorgio di Piano BO \nA suon di note e parole. Letture in musica! \nLettura del libro “La musica e i suoi segreti” con il commento musicale di corno e clarinetto \nEtà consigliata: dai 6 ai 12 anni \nIl numero di posti è limitato \nPrenotazione: biblioteca.sg@renogalliera.it  051.6638529
URL:https://www.iltemporale.it/it/evento/bimbinbiblio/
LOCATION:Biblioteca comunale San Giorgio di Piano\, Piazza Indipendenza 1\, San Giorgio di Piano\, 40016\, Italia
CATEGORIES:biblioteca,evento
ATTACH;FMTTYPE=image/jpeg:https://www.iltemporale.it/it/wp-content/uploads/2024/04/Bibmbinbiblio-Il-temporale-e1714413476116.jpg
END:VEVENT
BEGIN:VEVENT
DTSTART;TZID=Europe/Rome:20240518T210000
DTEND;TZID=Europe/Rome:20240518T220000
DTSTAMP:20260422T103930
CREATED:20240311T191552Z
LAST-MODIFIED:20240311T192831Z
UID:6499-1716066000-1716069600@www.iltemporale.it
SUMMARY:BLU E’ LA NOTTE
DESCRIPTION:BLU E’ LA NOTTE\nSABATO 18 MAGGIO ore 21\,00\nCompagnia del Temporale Giovani \nRegia di Fabrizia Lotta \nSpettacolo per ragazzi dai 14 anni. \nSogni\, realtà. Incubi\, fantasia. Tutti i personaggi di questa storia si ritroveranno dinanzi ad una scelta\, la più importante della loro vita. \nSarà la scelta giusta? \n  \nInfo:  Tel. 338.6413365   –  fabrizialotta@libero.it
URL:https://www.iltemporale.it/it/evento/blu-e-la-notte/
LOCATION:Centro culturale tE:Ze\, Via Enrico Berlinguer\, 7\, Bentivoglio\, 40010\, Italia
CATEGORIES:evento,prosa,teatro
ATTACH;FMTTYPE=image/jpeg:https://www.iltemporale.it/it/wp-content/uploads/2024/03/teatro-ragazzi-bentivoglio-e1710184475718.jpg
END:VEVENT
BEGIN:VEVENT
DTSTART;TZID=Europe/Rome:20240519T180000
DTEND;TZID=Europe/Rome:20240519T190000
DTSTAMP:20260422T103930
CREATED:20240311T192101Z
LAST-MODIFIED:20240311T192959Z
UID:6504-1716141600-1716145200@www.iltemporale.it
SUMMARY:MA E’ LA LUNA QUELLA?
DESCRIPTION:MA E’ LA LUNA QUELLA?\nDOMENICA 19 MAGGIO ore 18\,00\nCompagnia del Temporale Piccoli \nRegia di Fabrizia Lotta \nTutti ad aspettare la luna quella notte. Su un tetto misterioso dentro una leggenda. Per nessuno quell’attesa sarà come le altre. Per nessuno quella luna sarà quella di sempre. \nPoesia e magia in una storia che affascina i più piccoli ed emoziona i grandi. \n  \nInfo:  Tel. 338.6413365   –  fabrizialotta@libero.it
URL:https://www.iltemporale.it/it/evento/ma-e-la-luna-quella-2/
LOCATION:Centro culturale tE:Ze\, Via Enrico Berlinguer\, 7\, Bentivoglio\, 40010\, Italia
CATEGORIES:evento,teatro
ATTACH;FMTTYPE=image/jpeg:https://www.iltemporale.it/it/wp-content/uploads/2023/04/ma-e-la-luna-quella-e1681223673524.jpg
END:VEVENT
BEGIN:VEVENT
DTSTART;TZID=Europe/Rome:20240525T210000
DTEND;TZID=Europe/Rome:20240525T220000
DTSTAMP:20260422T103930
CREATED:20240311T192457Z
LAST-MODIFIED:20240403T181122Z
UID:6507-1716670800-1716674400@www.iltemporale.it
SUMMARY:UN MONDO PERFETTO E’ BLU
DESCRIPTION:UN MONDO PERFETTO E’ BLU\nSABATO 25 MAGGIO ore 21\,00\nCompagnia del Temporale\nRegia di Fabrizia Lotta \nCon Martina Cardinale\, Luca Donati\, Valentina Forlani\, Linda Frignani\, Eugenia Giannetti\, Veronica Lodi\, Antonella Lotito\, Chiara Martini\, Jacopo Tartarini \nUn giorno\, all’improvviso\, ti svegli e non sei più tu. E anche gli altri attorno a te si trovano ad interpretare un ruolo. Ma non a teatro\, nella vita vera. \nPer quanto tempo si può fingere? Una storia amara\, colma di malinconia e poesia\, in cui si salvano momenti per sorridere\, riflettere e provare ad essere felici. \n  \nInfo:  Tel. 338.6413365   –  fabrizialotta@libero.it
URL:https://www.iltemporale.it/it/evento/un-mondo-perfetto-e-blu/
LOCATION:Centro culturale tE:Ze\, Via Enrico Berlinguer\, 7\, Bentivoglio\, 40010\, Italia
CATEGORIES:evento,prosa,teatro
ATTACH;FMTTYPE=image/jpeg:https://www.iltemporale.it/it/wp-content/uploads/2024/03/IMG-20240309-WA0002-e1710185061627.jpg
END:VEVENT
BEGIN:VEVENT
DTSTART;TZID=Europe/Rome:20240528T170000
DTEND;TZID=Europe/Rome:20240528T180000
DTSTAMP:20260422T103930
CREATED:20240526T073246Z
LAST-MODIFIED:20240526T073246Z
UID:6647-1716915600-1716919200@www.iltemporale.it
SUMMARY:A SUON DI NOTE E PAROLE
DESCRIPTION:LETTURE E MUSICA IN BIBLIOTECA!\nA SUON DI NOTE E PAROLE\nMartedì 28 maggio alle 17.00\nLetture con intermezzi musicali curati dagli allievi di PIANOFORTE della scuola di musica Il Temporale \nEtà consigliata: dai 3 anni \nPer info: biblioteca.be@renogalliera.it  051.6643592
URL:https://www.iltemporale.it/it/evento/a-suon-di-note-e-parole/
LOCATION:Biblioteca Remo Dotti\, Via G. Marconi\, 5\, Bentivoglio\, Bologna\, 40010\, Italia
CATEGORIES:biblioteca,evento
ATTACH;FMTTYPE=image/jpeg:https://www.iltemporale.it/it/wp-content/uploads/2024/05/a-suon-di-note-e-parole__scuola-di-musica-e1716708653309.jpg
END:VEVENT
END:VCALENDAR