BEGIN:VCALENDAR
VERSION:2.0
PRODID:-// - ECPv6.15.17.1//NONSGML v1.0//EN
CALSCALE:GREGORIAN
METHOD:PUBLISH
X-ORIGINAL-URL:https://www.iltemporale.it/it
X-WR-CALDESC:Eventi per 
REFRESH-INTERVAL;VALUE=DURATION:PT1H
X-Robots-Tag:noindex
X-PUBLISHED-TTL:PT1H
BEGIN:VTIMEZONE
TZID:Europe/Paris
BEGIN:DAYLIGHT
TZOFFSETFROM:+0100
TZOFFSETTO:+0200
TZNAME:CEST
DTSTART:20220327T010000
END:DAYLIGHT
BEGIN:STANDARD
TZOFFSETFROM:+0200
TZOFFSETTO:+0100
TZNAME:CET
DTSTART:20221030T010000
END:STANDARD
BEGIN:DAYLIGHT
TZOFFSETFROM:+0100
TZOFFSETTO:+0200
TZNAME:CEST
DTSTART:20230326T010000
END:DAYLIGHT
BEGIN:STANDARD
TZOFFSETFROM:+0200
TZOFFSETTO:+0100
TZNAME:CET
DTSTART:20231029T010000
END:STANDARD
BEGIN:DAYLIGHT
TZOFFSETFROM:+0100
TZOFFSETTO:+0200
TZNAME:CEST
DTSTART:20240331T010000
END:DAYLIGHT
BEGIN:STANDARD
TZOFFSETFROM:+0200
TZOFFSETTO:+0100
TZNAME:CET
DTSTART:20241027T010000
END:STANDARD
END:VTIMEZONE
BEGIN:VEVENT
DTSTART;TZID=Europe/Paris:20231203T170000
DTEND;TZID=Europe/Paris:20231203T183000
DTSTAMP:20260422T170134
CREATED:20231024T191455Z
LAST-MODIFIED:20231024T193305Z
UID:5989-1701622800-1701628200@www.iltemporale.it
SUMMARY:DAL TEATRO AL CINEMA
DESCRIPTION:DAL TEATRO AL CINEMA\nPetronius Brass\nAlberto Astolfi\, tromba\nLuigi Zardi\, tromba\nSergio Boni\, corno\nCesare Rinaldi\, trombone\nGianluigi Paganelli\, basso tuba\nStefano Forlani\, percussioni\nDal “teatro al cinema” è un percorso di esplorazione del rapporto tra due mondi spesso contigui\, talvolta in conflitto e fonte di continuo\, vicendevole\, nutrimento.\nPer iniziare proponiamo una serie di brani trascritti per ottoni di melodie celebri della storia del melodramma a cui seguiranno brani di film di successo rappresentati nelle sale cinematografiche\, in un percorso che va dal XVII secolo ai giorni d’oggi. \nIngresso gratuito
URL:https://www.iltemporale.it/it/evento/dal-teatro-al-cinema/
LOCATION:Sala Giulietta Masina\, via Mario Melloni 2\, San Giorgio di Piano\, Bologgna\, 40016\, Italia
CATEGORIES:evento,festival musica da camera
ATTACH;FMTTYPE=image/jpeg:https://www.iltemporale.it/it/wp-content/uploads/2023/10/Petronius-Brass_Festival-musica-da-camera-e1698178450677.jpg
END:VEVENT
BEGIN:VEVENT
DTSTART;TZID=Europe/Paris:20231217T170000
DTEND;TZID=Europe/Paris:20231217T183000
DTSTAMP:20260422T170134
CREATED:20231024T192614Z
LAST-MODIFIED:20231205T125941Z
UID:5992-1702832400-1702837800@www.iltemporale.it
SUMMARY:FEUERFEST
DESCRIPTION:FEUERFEST\nOrchestra Giovanile BenTiVoglio\nDirettore Emiliano Bernagozzi\nIl nuovo programma sinfonico dell’Orchestra Giovanile BenTiVoglio affronta autori e generi di grande prestigio e difficoltà\, questo anche grazie ad un anno intenso\, ricco di attività\, viaggi e gratificazioni che hanno fatto crescere il livello artistico e la coesione dei ragazzi. Nel 2023 abbiamo realizzato ben tre residenze artistiche nelle quali i ragazzi hanno passato intere settimane a studiare e suonare insieme\, vinto il primo premio assoluto al Concorso Alberghini di Portomaggiore\, compiuto una bellissima tournee in Germania con cinque concerti in sei giorni in un viaggio attraverso Baviera e Sassonia grazie al contributo del MAECI\, Ministero degli Esteri per gli scambi giovanili e pubblicato il primo cd dell’Orchestra in formazione sinfonica: “It’s About Time”. \nIngresso offerta libera
URL:https://www.iltemporale.it/it/evento/feuerfest/
LOCATION:Sala Giulietta Masina\, via Mario Melloni 2\, San Giorgio di Piano\, Bologgna\, 40016\, Italia
CATEGORIES:evento,festival musica da camera
ATTACH;FMTTYPE=image/jpeg:https://www.iltemporale.it/it/wp-content/uploads/2023/10/Orchestra-Giovanile-BenTiVoglio_Festival-musica-da-camera-e1698178736388.jpg
END:VEVENT
BEGIN:VEVENT
DTSTART;TZID=Europe/Paris:20231221T210000
DTEND;TZID=Europe/Paris:20231221T220000
DTSTAMP:20260422T170134
CREATED:20231205T125743Z
LAST-MODIFIED:20231205T130419Z
UID:6164-1703192400-1703196000@www.iltemporale.it
SUMMARY:BenTiVoglio String Orchestra
DESCRIPTION:BenTiVoglio String Orchestra\nDirettore Emiliano Bernagozzi\n  \nAntonio Vivaldi                            Concerto per archi in re maggiore \nAntonio Vivaldi                            Concerto per archi in sol maggiore \nEnnio Morricone                         Gabriel’s oboe \nWolfang Amadeus Mozart          Eine Kleine Nachtmusik \nPeter Martin                                Trittico \n  \nViolini: Franco Parisini\, Susanna Campanini\, Matilde Cocchi\, Lena Giannelli\, Miriam Lastella\, Giulia Minetto\, Gabriele Nobili\, Vito Rorro\, Giorgia Ruggeri\, Francesca Zanasi\, Marzia Baldassarri\, Sara Addivinola\, Alex Appugliese\, iana Battilana\, Ludovica Borghese\, Giulia Canè\, Cecilia Cassanelli\, Amalita Danza\, Matilde Groth\, Rebeca Mariani\, Ada Negroni.\nViole: Letizia Viola\, Martina Ardizzoni\, Emma Barberini\, Valerio Stano.\nVioloncelli: Edoardo Francescon\, Ulisse Campanini\, Ginevra Cassanelli\, Manuel Chiodi\, Giada Cuppini\, Mia Giannelli\, Gaia Lanzoni\, Francesco Lastella.\nContrabbasso: Roberto Salario\, Sarah Casadio\, Giovanni Gherardi\, Alessandro Grimandi\, Patrizia Manukian. \n  \nIngresso offerta libera
URL:https://www.iltemporale.it/it/evento/bentivoglio-string-orchestra/
LOCATION:Chiesa di San Marino di Bentivoglio\, Via Canali e Crociali\, 5\, San Marino\, 40010\, Italia
CATEGORIES:evento
ATTACH;FMTTYPE=image/jpeg:https://www.iltemporale.it/it/wp-content/uploads/2023/12/BenTiVoglio-String-Orchestra-e1701780608750.jpg
END:VEVENT
END:VCALENDAR