BEGIN:VCALENDAR
VERSION:2.0
PRODID:-// - ECPv6.15.17.1//NONSGML v1.0//EN
CALSCALE:GREGORIAN
METHOD:PUBLISH
X-ORIGINAL-URL:https://www.iltemporale.it/it
X-WR-CALDESC:Eventi per 
REFRESH-INTERVAL;VALUE=DURATION:PT1H
X-Robots-Tag:noindex
X-PUBLISHED-TTL:PT1H
BEGIN:VTIMEZONE
TZID:Europe/Paris
BEGIN:DAYLIGHT
TZOFFSETFROM:+0100
TZOFFSETTO:+0200
TZNAME:CEST
DTSTART:20220327T010000
END:DAYLIGHT
BEGIN:STANDARD
TZOFFSETFROM:+0200
TZOFFSETTO:+0100
TZNAME:CET
DTSTART:20221030T010000
END:STANDARD
BEGIN:DAYLIGHT
TZOFFSETFROM:+0100
TZOFFSETTO:+0200
TZNAME:CEST
DTSTART:20230326T010000
END:DAYLIGHT
BEGIN:STANDARD
TZOFFSETFROM:+0200
TZOFFSETTO:+0100
TZNAME:CET
DTSTART:20231029T010000
END:STANDARD
BEGIN:DAYLIGHT
TZOFFSETFROM:+0100
TZOFFSETTO:+0200
TZNAME:CEST
DTSTART:20240331T010000
END:DAYLIGHT
BEGIN:STANDARD
TZOFFSETFROM:+0200
TZOFFSETTO:+0100
TZNAME:CET
DTSTART:20241027T010000
END:STANDARD
END:VTIMEZONE
BEGIN:VEVENT
DTSTART;TZID=Europe/Paris:20231104T163000
DTEND;TZID=Europe/Paris:20231104T173000
DTSTAMP:20260422T180904
CREATED:20231018T134124Z
LAST-MODIFIED:20231030T182938Z
UID:5956-1699115400-1699119000@www.iltemporale.it
SUMMARY:BURATTINI - PULCINELLA E CAPPUCCETTO ROSSO
DESCRIPTION:BURATTINI SENZA CONFINI\n\nPrimo festival di teatro di figura a respiro internazionale organizzato da Burattini a Bologna Aps\nDirezione artistica Riccardo Pazzaglia \nRealizzato con il contributo della Regione Emilia-Romagna\n\n\nIl festival nasce con l’intento di intrecciare collaborazioni con altre realtà culturali. La scelta delle compagnie ospiti consentirà di riunire\, in un unico evento\, forme spettacolari diverse per poter apprezzare le differenze e cogliere le sottili similitudini che le accomunano. L’intento e l’impegno di ‘Burattini a Bologna’ è poter creare una manifestazione che possa ripetersi nel tempo includendo un numero sempre maggiore di artisti del settore\, anche provenienti dall’estero.\nPer questa prima edizione si è pensato di partire dalla ricchezza artistica della nostra penisola accendendo i riflettori sulle tre scuole di arte burattinaia più antiche in Italia: Bergamo\, Bologna e Napoli.\n\nPulcinella e Cappuccetto Rosso\nGaspare Nasuto incarna l’antico teatro tipico napoletano della ‘guarattella’: così è chiamata la struttura che accoglie\, da oltre cinque secoli\, i burattini di scuola napoletana. Il burattinaio per tradizione agisce da solo all’interno della piccola struttura caratterizzando la voce di Pulcinella con la ‘pivetta’. Tra le tante produzioni che Gaspare ha dedicato al protagonista partenopeo quella scelta per noi rappresenta l’ideale fusione fra tradizione e sperimentazione… Qui Pulcinella è niente meno che lo zio di Cappuccetto Rosso. \nGioppino\, Fagiolino e Pulcinella vi aspettano numerosi! \n  \nGli spettacoli\, adatti dai cinque anni in su. \nINGRESSO GRATUITO SENZA PRENOTAZIONE \nAccoglienza del pubblico ore 15.30 \nCentro culturale Te-ze via Berlinguer 7\, Bentivoglio\, Città metropolitana di Bologna\nPer info: info@burattiniabologna.it | 3332653097 \n 
URL:https://www.iltemporale.it/it/evento/burattini-pulcinella-e-cappuccetto-rosso/
LOCATION:Centro culturale tE:Ze\, Via Enrico Berlinguer\, 7\, Bentivoglio\, 40010\, Italia
CATEGORIES:evento,teatro
ATTACH;FMTTYPE=image/jpeg:https://www.iltemporale.it/it/wp-content/uploads/2023/10/BURATTINI-Pulcinella-e-Capuccetto-Rosso-e1698690537253.jpg
END:VEVENT
BEGIN:VEVENT
DTSTART;TZID=Europe/Paris:20231111T163000
DTEND;TZID=Europe/Paris:20231111T173000
DTSTAMP:20260422T180904
CREATED:20231018T135904Z
LAST-MODIFIED:20231030T200444Z
UID:5967-1699720200-1699723800@www.iltemporale.it
SUMMARY:BURATTINI - IL RAPIMENTO DEL PRINCIPE CARLO
DESCRIPTION:BURATTINI SENZA CONFINI\n\nPrimo festival di teatro di figura a respiro internazionale organizzato da Burattini a Bologna Aps\nDirezione artistica Riccardo Pazzaglia \nRealizzato con il contributo della Regione Emilia-Romagna\n\n\nIl festival nasce con l’intento di intrecciare collaborazioni con altre realtà culturali. La scelta delle compagnie ospiti consentirà di riunire\, in un unico evento\, forme spettacolari diverse per poter apprezzare le differenze e cogliere le sottili similitudini che le accomunano. L’intento e l’impegno di ‘Burattini a Bologna’ è poter creare una manifestazione che possa ripetersi nel tempo includendo un numero sempre maggiore di artisti del settore\, anche provenienti dall’estero.\nPer questa prima edizione si è pensato di partire dalla ricchezza artistica della nostra penisola accendendo i riflettori sulle tre scuole di arte burattinaia più antiche in Italia: Bergamo\, Bologna e Napoli.\n\n\nIL RAPIMENTO DEL PRINCIPE CARLO\nQuella dei Monticelli è una Famiglia d’Arte\, attiva nel settore del teatro di burattini e delle marionette dalla prima metà dell’Ottocento. Mauro e Andrea rappresentano oggi la quinta generazione e agiscono sotto il nome di ‘Teatro del Drago’. L’eroe del teatrino è Fagiolino\, accompagnato dal suo inseparabile amico Sandrone. Questa fiaba\, di sapore ottocentesco\, porta Fagiolino e i soldati reali alla disperata ricerca del principe ma giunti in un bosco misterioso Fagiolino riuscirà nell’impresa grazie ai consigli di una vecchia fata. \nGioppino\, Fagiolino e Pulcinella vi aspettano numerosi! \n  \nGli spettacoli\, adatti dai cinque anni in su. \nINGRESSO GRATUITO SENZA PRENOTAZIONE \nAccoglienza del pubblico ore 15.30 \nCentro culturale Te-ze via Berlinguer 7\, Bentivoglio\, Città metropolitana di Bologna\nPer info: info@burattiniabologna.it | 3332653097
URL:https://www.iltemporale.it/it/evento/burattini-il-rapimento-del-principe-carlo/
LOCATION:Centro culturale tE:Ze\, Via Enrico Berlinguer\, 7\, Bentivoglio\, 40010\, Italia
CATEGORIES:evento,teatro
ATTACH;FMTTYPE=image/jpeg:https://www.iltemporale.it/it/wp-content/uploads/2023/10/BURATTINI-Il-rapimento-del-principe-Carlo-e1698696263167.jpg
END:VEVENT
BEGIN:VEVENT
DTSTART;TZID=Europe/Paris:20231112T170000
DTEND;TZID=Europe/Paris:20231112T183000
DTSTAMP:20260422T180904
CREATED:20231024T190157Z
LAST-MODIFIED:20231024T190601Z
UID:5979-1699808400-1699813800@www.iltemporale.it
SUMMARY:LA MAGIA DI PRAGA
DESCRIPTION:LA MAGIA DI PRAGA\nAmbroš Duo Prague\nMiroslav Ambroš\, violino \nZuzana Ambrošová\, pianoforte\nNei concerti in giro per il mondo il Duo Ambroš ama presentare e suonare principalmente opere di compositori cechi\, nelle quali si riflettono il carattere della Nazione\, la sua creatività\, la tradizione musicale delle danze e del canto popolare. Miroslav Ambroš ha avuto la fortuna di aver studiato e di essersi esibito in concerto con un leggendario violinista\, il Maestro Josef Suk\, pronipote di Antonín Dvořák e nipote del compositore Josef Suk\, autori che potremo ascoltare in questo concerto. Non mancheranno anche musiche di compositori italiani\, in particolare Nicolò Paganini (del quale Miroslav Ambroš suonerà il Cantabile con la pianista ceca e bolognese Monika Fenyešová) e Antonio Bazzini. Del compositore barocco Giuseppe Tartini\, il brano preferito è Il trillo del Diavolo\, un pezzo virtuosistico e molto audace per il suo tempo. \nIngresso gratuito
URL:https://www.iltemporale.it/it/evento/la-magia-di-praga/
LOCATION:Museo della Civilta Contadina\, Via S. Marina\, 35\, Bentivoglio\, 40010\, Italia
CATEGORIES:evento,festival musica da camera
ATTACH;FMTTYPE=image/jpeg:https://www.iltemporale.it/it/wp-content/uploads/2023/10/Ambros-Duo-Prague_Brochure-musica-da-camera-e1698177667402.jpg
END:VEVENT
BEGIN:VEVENT
DTSTART;TZID=Europe/Paris:20231118T163000
DTEND;TZID=Europe/Paris:20231118T173000
DTSTAMP:20260422T180904
CREATED:20231018T153816Z
LAST-MODIFIED:20231030T200339Z
UID:5970-1700325000-1700328600@www.iltemporale.it
SUMMARY:BURATTINI - GIOPPINO A VENEZIA IN CERCA DI FORTUNA
DESCRIPTION:BURATTINI SENZA CONFINI\n\nPrimo festival di teatro di figura a respiro internazionale organizzato da Burattini a Bologna Aps\nDirezione artistica Riccardo Pazzaglia \nRealizzato con il contributo della Regione Emilia-Romagna\n\n\nIl festival nasce con l’intento di intrecciare collaborazioni con altre realtà culturali. La scelta delle compagnie ospiti consentirà di riunire\, in un unico evento\, forme spettacolari diverse per poter apprezzare le differenze e cogliere le sottili similitudini che le accomunano. L’intento e l’impegno di ‘Burattini a Bologna’ è poter creare una manifestazione che possa ripetersi nel tempo includendo un numero sempre maggiore di artisti del settore\, anche provenienti dall’estero.\nPer questa prima edizione si è pensato di partire dalla ricchezza artistica della nostra penisola accendendo i riflettori sulle tre scuole di arte burattinaia più antiche in Italia: Bergamo\, Bologna e Napoli.\n\nGIOPPINO A VENEZIA IN CERCA DI FORTUNA\nLa compagnia ‘Baraca & Böratì’ è composta da Pietro Roncelli e il nipote Gabriele Codognola che\, all’età di quindici anni\, decide di accompagnarlo in ogni suo spettacolo e imparare il mestiere. Qui il protagonista è Gioppino\, l’arguto e simpatico burattino della tradizione burattinaia bergamasca. Convinto a lasciare la sua famiglia e la fidanzata Margì giunge a Venezia ma tutto sembra andar di male in peggio. Ben presto Gioppino si troverà coinvolto in un’avventura davvero avvincente per trionfare\, ancora una volta\, con l’aiuto del suo inseparabile bastone. \n  \nGioppino\, Fagiolino e Pulcinella vi aspettano numerosi! \n  \nGli spettacoli\, adatti dai cinque anni in su. \nINGRESSO GRATUITO SENZA PRENOTAZIONE \nAccoglienza del pubblico ore 15.30 \nCentro culturale Te-ze via Berlinguer 7\, Bentivoglio\, Città metropolitana di Bologna\nPer info: info@burattiniabologna.it | 3332653097 \n 
URL:https://www.iltemporale.it/it/evento/burattini-gioppino-a-venezia-in-cerca-di-fortuna/
LOCATION:Centro culturale tE:Ze\, Via Enrico Berlinguer\, 7\, Bentivoglio\, 40010\, Italia
CATEGORIES:evento,teatro
ATTACH;FMTTYPE=image/jpeg:https://www.iltemporale.it/it/wp-content/uploads/2023/10/BURATTINI-Gioppino-a-Venezia-in-cerca-di-fortuna-e1698696190629.jpg
END:VEVENT
BEGIN:VEVENT
DTSTART;TZID=Europe/Paris:20231125T163000
DTEND;TZID=Europe/Paris:20231125T173000
DTSTAMP:20260422T180904
CREATED:20231018T154259Z
LAST-MODIFIED:20231030T200211Z
UID:5972-1700929800-1700933400@www.iltemporale.it
SUMMARY:BURATTINI - LA VENDETTA DELLA STREGA MORGANA
DESCRIPTION:BURATTINI SENZA CONFINI\n\nPrimo festival di teatro di figura a respiro internazionale organizzato da Burattini a Bologna Aps\nDirezione artistica Riccardo Pazzaglia \nRealizzato con il contributo della Regione Emilia-Romagna\n\n\nIl festival nasce con l’intento di intrecciare collaborazioni con altre realtà culturali. La scelta delle compagnie ospiti consentirà di riunire\, in un unico evento\, forme spettacolari diverse per poter apprezzare le differenze e cogliere le sottili similitudini che le accomunano. L’intento e l’impegno di ‘Burattini a Bologna’ è poter creare una manifestazione che possa ripetersi nel tempo includendo un numero sempre maggiore di artisti del settore\, anche provenienti dall’estero.\nPer questa prima edizione si è pensato di partire dalla ricchezza artistica della nostra penisola accendendo i riflettori sulle tre scuole di arte burattinaia più antiche in Italia: Bergamo\, Bologna e Napoli.\n\nLA VENDETTA DELLA STREGA MORGANA\nMattia Zecchi\, burattinaio di tradizione emiliana\, ha assorbito dai burattinai che lo hanno preceduto l’antica arte delle teste di legno. Negli ultimi anni si è consacrato come allievo del maestro Romano Danielli e oggi ci presenta un grande classico. Morgana\, strega tra le più malvagie\, irrompe nel palazzo reale durante un importante ricevimento esigendo spiegazioni al Re per il mancato invito. Quest’ultimo scaccerà la strega che adirata si vendicherà. Il fedele e scaltro Fagiolino partirà dal castello alla ricerca di Morgana e\, grazie al suo bastone\, farà trionfare giustizia. \n  \n\nGioppino\, Fagiolino e Pulcinella vi aspettano numerosi! \n  \nGli spettacoli\, adatti dai cinque anni in su. \nINGRESSO GRATUITO SENZA PRENOTAZIONE \nAccoglienza del pubblico ore 15.30 \nCentro culturale Te-ze via Berlinguer 7\, Bentivoglio\, Città metropolitana di Bologna\nPer info: info@burattiniabologna.it | 3332653097
URL:https://www.iltemporale.it/it/evento/burattini-la-vendetta-della-strega-morgana/
LOCATION:Centro culturale tE:Ze\, Via Enrico Berlinguer\, 7\, Bentivoglio\, 40010\, Italia
CATEGORIES:evento,teatro
ATTACH;FMTTYPE=image/jpeg:https://www.iltemporale.it/it/wp-content/uploads/2023/10/BURATTINI-La-vendetta-della-strega-Morgana-e1698696102483.jpg
END:VEVENT
BEGIN:VEVENT
DTSTART;TZID=Europe/Paris:20231126T170000
DTEND;TZID=Europe/Paris:20231126T183000
DTSTAMP:20260422T180904
CREATED:20231024T191023Z
LAST-MODIFIED:20231024T192812Z
UID:5982-1701018000-1701023400@www.iltemporale.it
SUMMARY:CLARA E ROBERT
DESCRIPTION:CLARA E ROBERT\nParsifal Piano Trio\nJalle Feest\, violino\nEmilia Slugocka\, violoncello\nAnna Paola Milea\, pianoforte\nIl giovane pianista e compositore tedesco Robert Schumann conosce Clara Wieck\, figlia del suo insegnante di pianoforte e anch’ella eccezionale pianista\, quando lui ha 20 anni e lei nove di meno. L’amore tra i due fiorisce più tardi e viene a lungo ostacolato dal padre di lei che intuisce già lo squilibrio mentale del giovane; i due convolano infine a nozze nel 1840. Hanno due personalità contrastanti: Robert è incosciente\, esuberante\, un rivoluzionario dal punto di vista musicale; Clara è più metodica\, a tratti stacanovista. Hanno in comune una determinazione non comune e la passione totalizzante per la musica. Clara\, figura straordinaria e emblema estremamente contemporaneo di donna scissa tra volontà di proseguire la sua carriera musicale e quella di dedicarsi alla famiglia e soprattutto a Robert\, arrivando a dubitare del suo stesso talento pur di far spazio al marito. «Una donna non dovrebbe desiderare di comporre\, mai una è stata capace di farlo\, dovrei essere io quell’una? Sarebbe arrogante crederlo – scrisse – Che sia Robert a creare\, sempre! Questo deve rendermi sempre felice». \nIngresso gratuito
URL:https://www.iltemporale.it/it/evento/clara-e-robert/
LOCATION:Museo della Civilta Contadina\, Via S. Marina\, 35\, Bentivoglio\, 40010\, Italia
CATEGORIES:evento,festival musica da camera
ATTACH;FMTTYPE=image/jpeg:https://www.iltemporale.it/it/wp-content/uploads/2023/10/Parsifal-Piano-Trio_Festival-musica-da-camera-e1698178136787.jpg
END:VEVENT
END:VCALENDAR