BEGIN:VCALENDAR
VERSION:2.0
PRODID:-// - ECPv6.15.17.1//NONSGML v1.0//EN
CALSCALE:GREGORIAN
METHOD:PUBLISH
X-ORIGINAL-URL:https://www.iltemporale.it/it
X-WR-CALDESC:Eventi per 
REFRESH-INTERVAL;VALUE=DURATION:PT1H
X-Robots-Tag:noindex
X-PUBLISHED-TTL:PT1H
BEGIN:VTIMEZONE
TZID:Europe/Paris
BEGIN:DAYLIGHT
TZOFFSETFROM:+0100
TZOFFSETTO:+0200
TZNAME:CEST
DTSTART:20220327T010000
END:DAYLIGHT
BEGIN:STANDARD
TZOFFSETFROM:+0200
TZOFFSETTO:+0100
TZNAME:CET
DTSTART:20221030T010000
END:STANDARD
BEGIN:DAYLIGHT
TZOFFSETFROM:+0100
TZOFFSETTO:+0200
TZNAME:CEST
DTSTART:20230326T010000
END:DAYLIGHT
BEGIN:STANDARD
TZOFFSETFROM:+0200
TZOFFSETTO:+0100
TZNAME:CET
DTSTART:20231029T010000
END:STANDARD
BEGIN:DAYLIGHT
TZOFFSETFROM:+0100
TZOFFSETTO:+0200
TZNAME:CEST
DTSTART:20240331T010000
END:DAYLIGHT
BEGIN:STANDARD
TZOFFSETFROM:+0200
TZOFFSETTO:+0100
TZNAME:CET
DTSTART:20241027T010000
END:STANDARD
END:VTIMEZONE
BEGIN:VEVENT
DTSTART;TZID=Europe/Paris:20230610T210000
DTEND;TZID=Europe/Paris:20230610T223000
DTSTAMP:20260423T003729
CREATED:20230509T094352Z
LAST-MODIFIED:20230530T164833Z
UID:5685-1686430800-1686436200@www.iltemporale.it
SUMMARY:LA MAGIA DELLA MUSICA
DESCRIPTION:LA MAGIA DELLA MUSICA\nOrchestra Giovanile BenTiVoglio\nPersonaggi e interpreti:\nIL NARRATORE: Giorgio Fabbri\, musicista e formatore.\nIL MAGO: Roberto Ferrari\, esperto nell’arte del prestigio.\nDirettore: Emiliano Bernagozzi\nOspiti: musicisti della banda di “Stadtkapelle”\ne il direttore Markus Schenk di Eibelstadt (Germania)\nAscoltare un’orchestra dal vivo è un’esperienza coinvolgente e magica. Con il concerto di apertura di questa rassegna estiva\, vi accompagneremo in un vero e proprio viaggio dietro le quinte di un’orchestra sinfonica. Un’orchestra sinfonica è un grande gruppo di musicisti che suonano strumenti diversi guidati dalla bacchetta magica del Direttore d’Orchestra. Ad occhi nudi vediamo la famiglia degli archi\, dei legni\, degli ottoni e delle percussioni\, dietro c’è il lavoro di squadra di tanti musicisti che con impegno\, passione\, disciplina\, ascolto e rispetto del prossimo danno vita alla “magia della musica”.\nConcerto di beneficenza a favore dell’Istituto Ramazzini\nINGRESSO LIBERO\nConcerto realizzato con il contributo del “Ministero degli Affari Esteri e della Cooperazione Internazionale”
URL:https://www.iltemporale.it/it/evento/la-magia-della-musica/
LOCATION:Castello di Bentivoglio\, Via Saliceto\, 1\, Bentivoglio\, Bologna\, 40010\, Italia
CATEGORIES:evento,festival musica da camera,orchestra giovanile
ATTACH;FMTTYPE=image/jpeg:https://www.iltemporale.it/it/wp-content/uploads/2023/05/La-magia-della-musica.jpg
END:VEVENT
BEGIN:VEVENT
DTSTART;TZID=Europe/Paris:20230617T210000
DTEND;TZID=Europe/Paris:20230617T230000
DTSTAMP:20260423T003729
CREATED:20230525T095254Z
LAST-MODIFIED:20230525T095413Z
UID:5760-1687035600-1687042800@www.iltemporale.it
SUMMARY:IT'S ABOUT TIME
DESCRIPTION:IT’S ABOUT TIME\nDirettore: Emiliano Bernagozzi\nCon gli artisti della Compagnia Teatrale RDL di Carlo Tedeschi\nVoci: Francesco Troilo Di Carlo e Albatea Internullo\nCorpo di ballo: Matteo Mecozzi\, Mirko Occhipinti\, Alex Fronduti\,\nGiada Mecozzi\, Michela Sclano\, Maya Manenti.\nOspiti: Ensemble “100MozartKinder” di Chemnitz (Germania)\nFranz Schubert             Rosamunde\nRalph Ford                    Go West\nJack Bullock                  Rain\nMichael Story                It’s about time\nEd Sheeran                   Perfect arr. Emanuele Tedeschi\nLeonard Cohen             Halleluija arr. Carlo Cialdo Capelli\nFrank Sinatra                My Way arr. Emiliano Bernagozzi\nVictor Lopez                  What a wonderful world \n  \nUn programma ricchissimo di ospiti e denso di emozioni. Sul palcoscenico un centinaio di giovani\, dietro le quinte il lavoro di costruzione di solidi ponti tra giovani artisti. Quest’anno festeggiamo infatti 10 anni di consolidata amicizia fra l’“Orchestra Giovanile BenTiVoglio” e i “100MozartKinder”. Per onorare questo anniversario di collaborazione e progetti in comune\, abbiamo invitato i nostri partner tedeschi in una residenza artistica di 5 giorni a Bentivoglio\, finalizzata all’esecuzione del concerto di questa sera. La serata sarà arricchita dalla suggestiva esibizione dei “ragazzi del lago” della “Compagnia RDL” di Carlo Tedeschi. Abbiamo avuto l’occasione di conoscere questa straordinaria realtà in occasione dell’ultima residenza musicale dell’Orchestra BenTiVoglio che si è conclusa presso il Teatro Leo Amici del Lago di Montecolombo (RN) con il gran concerto dell’Epifania. \n  \nINGRESSO LIBERO \nConcerto realizzato con il contributo del “Ministero degli Affari Esteri e della Cooperazione Internazionale”
URL:https://www.iltemporale.it/it/evento/its-about-time-2/
LOCATION:Castello di Bentivoglio\, Via Saliceto\, 1\, Bentivoglio\, Bologna\, 40010\, Italia
CATEGORIES:evento,festival musica da camera,orchestra giovanile
ATTACH;FMTTYPE=image/jpeg:https://www.iltemporale.it/it/wp-content/uploads/2023/05/Its-about-time-Orchestra-giovanile-BenTiVoglio-e1685011869533.jpg
END:VEVENT
BEGIN:VEVENT
DTSTART;TZID=Europe/Paris:20230622T210000
DTEND;TZID=Europe/Paris:20230622T223000
DTSTAMP:20260423T003729
CREATED:20230525T100200Z
LAST-MODIFIED:20230525T100200Z
UID:5770-1687467600-1687473000@www.iltemporale.it
SUMMARY:GIRO DEL MONDO IN 80 GIORNI
DESCRIPTION:GIRO DEL MONDO IN 80 GIORNI\nLe musiche originali per orchestra di fiati\nWIND’S ORCHESTRA\ndel conservatorio statale “G. Verdi” di Ravenna\nDirettore Stefano Franceschini\n  \nJacob de Haan                    Oregon\nGustav Holst                       Suite n.1\nThomas Doss                      Traffic\nOtto Schwarz                       Around the world in 80 days\nJan Van Der Roost              Rikudim\nArturo Marquez                   Danzon n. 2 \n  \nLa “Wind Orchestra” nasce nel 2020 come progetto culturale di arricchimento musicale e riunisce piccoli ensemble esistenti in un’unica compagine. Ne fanno parte allievi interni ed ex allievi del “Conservatorio Giuseppe Verdi” di Ravenna.\nIl repertorio spazia dalla musica classica alla musica leggera\, musica da film\, repertorio originale e composizioni inedite scritte appositamente per questa formazione. \nINGRESSO LIBERO
URL:https://www.iltemporale.it/it/evento/giro-del-mondo-in-80-giorni/
LOCATION:Castello di Bentivoglio\, Via Saliceto\, 1\, Bentivoglio\, Bologna\, 40010\, Italia
CATEGORIES:evento,festival musica da camera,orchestra giovanile
ATTACH;FMTTYPE=image/jpeg:https://www.iltemporale.it/it/wp-content/uploads/2023/05/GIRO-DEL-MONDO-IN-80-GIORNI-e1685012493688.jpg
END:VEVENT
BEGIN:VEVENT
DTSTART;TZID=Europe/Paris:20230626T210000
DTEND;TZID=Europe/Paris:20230626T223000
DTSTAMP:20260423T003729
CREATED:20230525T101321Z
LAST-MODIFIED:20230525T101425Z
UID:5777-1687813200-1687818600@www.iltemporale.it
SUMMARY:ORCHESTRACADEMY TOUR
DESCRIPTION:ORCHESTRACADEMY TOUR\nAyso Orchestra\nDirettore Teresa Satalino\nGioacchino Rossini                                           Ouverture da Guglielmo Tell \nZoltan Kodaly                                                     Danze di Galànta \nGiuseppe Martucci                                            Notturno op. 70 n.1 \nNikolaj Andreevic Rimskij- Korsakov                 Capriccio spagnolo \n  \nAYSO Orchestra è una orchestra giovanile diretta stabilmente dal M° Teresa Satalino. I musicisti di AYSO provengono da numerosi conservatori italiani e frequentano OrchestrAcademy\, una accademia di formazione orchestrale che che propone percorsi qualificate e qualificanti di attività e percorsi formativi musicali di sostegno alla carriera dei giovani musicisti. OrchestrAcademy costituisce un prezioso trait d’union tra il sistema dell’Alta Formazione Artistica e Musicale ed il mondo del lavoro nelle orchestre professionali. Il concerto di Bentivoglio inaugura la tourneè dell’estate 2023 che porterà questi giovani musicisti a Praga e Vienna. \n  \nINGRESSO LIBERO
URL:https://www.iltemporale.it/it/evento/orchestracademy-tour/
LOCATION:Castello di Bentivoglio\, Via Saliceto\, 1\, Bentivoglio\, Bologna\, 40010\, Italia
CATEGORIES:evento,festival musica da camera
ATTACH;FMTTYPE=image/jpeg:https://www.iltemporale.it/it/wp-content/uploads/2023/05/ORCHESTRACADEMY-TOUR-e1685013138297.jpg
END:VEVENT
END:VCALENDAR