BEGIN:VCALENDAR
VERSION:2.0
PRODID:-// - ECPv6.15.17.1//NONSGML v1.0//EN
CALSCALE:GREGORIAN
METHOD:PUBLISH
X-ORIGINAL-URL:https://www.iltemporale.it/it
X-WR-CALDESC:Eventi per 
REFRESH-INTERVAL;VALUE=DURATION:PT1H
X-Robots-Tag:noindex
X-PUBLISHED-TTL:PT1H
BEGIN:VTIMEZONE
TZID:Europe/Paris
BEGIN:DAYLIGHT
TZOFFSETFROM:+0100
TZOFFSETTO:+0200
TZNAME:CEST
DTSTART:20220327T010000
END:DAYLIGHT
BEGIN:STANDARD
TZOFFSETFROM:+0200
TZOFFSETTO:+0100
TZNAME:CET
DTSTART:20221030T010000
END:STANDARD
BEGIN:DAYLIGHT
TZOFFSETFROM:+0100
TZOFFSETTO:+0200
TZNAME:CEST
DTSTART:20230326T010000
END:DAYLIGHT
BEGIN:STANDARD
TZOFFSETFROM:+0200
TZOFFSETTO:+0100
TZNAME:CET
DTSTART:20231029T010000
END:STANDARD
BEGIN:DAYLIGHT
TZOFFSETFROM:+0100
TZOFFSETTO:+0200
TZNAME:CEST
DTSTART:20240331T010000
END:DAYLIGHT
BEGIN:STANDARD
TZOFFSETFROM:+0200
TZOFFSETTO:+0100
TZNAME:CET
DTSTART:20241027T010000
END:STANDARD
END:VTIMEZONE
BEGIN:VEVENT
DTSTART;TZID=Europe/Paris:20230506T210000
DTEND;TZID=Europe/Paris:20230506T223000
DTSTAMP:20260423T014531
CREATED:20230411T131752Z
LAST-MODIFIED:20230412T192019Z
UID:5612-1683406800-1683412200@www.iltemporale.it
SUMMARY:OPEN THEATRE - 2
DESCRIPTION:OPEN THEATRE – 2\nLa festa del Teatro\nIl palcoscenico sarà vostro per 5 minuti!\nChiunque vorrà potrà esibirsi.\nAttori e spettatori\, un palco per tutti.\nSolo l’ultima esibizione sarà di totale improvvisazione con un tema scelto dal pubblico e chiunque potrà parteciparvi salendo sul palco senza alcun preavviso. \nINGRESSO LIBERO senza prenotazione \nPer partecipare e darci la possibilità di creare una scaletta di esibizioni\, oppure solo per partecipare come pubblico scrivere a\nfabrizialotta@libero.it\no mandare un messaggio wa\nal numero 3386413365
URL:https://www.iltemporale.it/it/evento/open-theatre-2/
LOCATION:Centro culturale tE:Ze\, Via Enrico Berlinguer\, 7\, Bentivoglio\, 40010\, Italia
CATEGORIES:evento,teatro
ATTACH;FMTTYPE=image/jpeg:https://www.iltemporale.it/it/wp-content/uploads/2023/04/un-palco-per-tutti-e1681222285236.jpg
END:VEVENT
BEGIN:VEVENT
DTSTART;TZID=Europe/Paris:20230513T210000
DTEND;TZID=Europe/Paris:20230513T223000
DTSTAMP:20260423T014531
CREATED:20230411T132942Z
LAST-MODIFIED:20230513T115528Z
UID:5616-1684011600-1684017000@www.iltemporale.it
SUMMARY:DA QUASSU’ SI VEDE TUTTO
DESCRIPTION:DA QUASSU’ SI VEDE TUTTO\nCompagnia del Temporale\nRegia: Fabrizia Lotta\nCon Antonio Caggiano\, Martina Cardinale\, Luca Donati\, Valentina Forlani\, Linda Frignani\, Veronica Lodi\, Eugenia Giannetti\, Filitea Ippoliti\, Chiara Martini e Paolo Casella. \nCommedia. Sembrava una giornata così tranquilla ed invece qualcuno\, in cima al tetto\, attira l’attenzione dei protagonisti della storia e si prende tutto : tempo\, paura\, ansia\, pensieri e riflessioni. \n  \nINGRESSO LIBERO senza prenotazione \n  \nTel. 338.6413365   –  fabrizialotta@libero.it \n  \n 
URL:https://www.iltemporale.it/it/evento/da-quassu-si-vede-tutto-2/
CATEGORIES:evento,teatro
ATTACH;FMTTYPE=image/jpeg:https://www.iltemporale.it/it/wp-content/uploads/2023/04/da-quassu-si-vede-tutto-e1681223322253.jpg
END:VEVENT
BEGIN:VEVENT
DTSTART;TZID=Europe/Paris:20230514T180000
DTEND;TZID=Europe/Paris:20230514T193000
DTSTAMP:20260423T014531
CREATED:20230411T133510Z
LAST-MODIFIED:20230412T191943Z
UID:5618-1684087200-1684092600@www.iltemporale.it
SUMMARY:MA E’ LA LUNA QUELLA?
DESCRIPTION:MA E’ LA LUNA QUELLA?\nTeatro Ragazzi \nRegia: Fabrizia Lotta \n  \nINGRESSO LIBERO senza prenotazione \n  \nTel. 338.6413365   –  fabrizialotta@libero.it \n  \n  \n  \n  \n  \n 
URL:https://www.iltemporale.it/it/evento/ma-e-la-luna-quella/
LOCATION:Centro culturale tE:Ze\, Via Enrico Berlinguer\, 7\, Bentivoglio\, 40010\, Italia
CATEGORIES:evento,teatro
ATTACH;FMTTYPE=image/jpeg:https://www.iltemporale.it/it/wp-content/uploads/2023/04/ma-e-la-luna-quella-e1681223673524.jpg
END:VEVENT
BEGIN:VEVENT
DTSTART;TZID=Europe/Paris:20230520T210000
DTEND;TZID=Europe/Paris:20230520T223000
DTSTAMP:20260423T014531
CREATED:20230411T133910Z
LAST-MODIFIED:20230516T153844Z
UID:5622-1684616400-1684621800@www.iltemporale.it
SUMMARY:A VOLTE\, LA LUNA BASTA DA SOLA
DESCRIPTION:A VOLTE\, LA LUNA BASTA DA SOLA\nCompagnia del Temporale \nRegia: Fabrizia Lotta \nProsa \nCon Antonio Caggiano\, Martina Cardinale\, \nLuca Donati\, Valentina Forlani\, Linda Frignani\, Veronica Lodi\, Eugenia Giannetti\, \nElisa Giardina\, Chiara Martini\, Martina Monti\, Daniele Parisini\, Miriam Lastella. \nDedicato a Claudia Capaldo che\, \ncome la Luna\, bastava da sola. \nCommedia. Tutti l’aspettano. È lei quella che manca. È lei la tanto attesa sul tetto maledetto di una città sconosciuta\, quella notte. \nÈ lei che tutti sperano di vedere per continuare a sognare\, ancora una volta\, forse l’ultima. \nÈ lei\, la Luna. E se non arriva? \nAndranno a prendersela da soli\, non importa\, come tutte le cose che mancano nella loro vita. \nUna storia che\, tra leggerezza e malinconia\, lascia al pubblico una piccola luce da nascondere nel buio\, finché qualcuno non ne avrà bisogno. \n  \nINGRESSO LIBERO senza prenotazione \n  \nTel. 338.6413365   –  fabrizialotta@libero.it \n  \n  \n 
URL:https://www.iltemporale.it/it/evento/a-volte-la-luna-basta-da-sola/
LOCATION:Centro culturale tE:Ze\, Via Enrico Berlinguer\, 7\, Bentivoglio\, 40010\, Italia
CATEGORIES:evento,teatro
ATTACH;FMTTYPE=image/jpeg:https://www.iltemporale.it/it/wp-content/uploads/2023/04/a-volte-la-luna-basta-da-sola-e1681223901467.jpg
END:VEVENT
BEGIN:VEVENT
DTSTART;TZID=Europe/Paris:20230521T180000
DTEND;TZID=Europe/Paris:20230521T193000
DTSTAMP:20260423T014531
CREATED:20230411T134243Z
LAST-MODIFIED:20230509T094348Z
UID:5624-1684692000-1684697400@www.iltemporale.it
SUMMARY:DAL CIELO AL MARE
DESCRIPTION:DAL CIELO AL MARE\nTeatro Ragazzi \nRegia: Fabrizia Lotta \n  \nINGRESSO LIBERO senza prenotazione \n  \nTel. 338.6413365   –  fabrizialotta@libero.it \n  \n 
URL:https://www.iltemporale.it/it/evento/dal-cielo-al-mare/
LOCATION:Centro culturale tE:Ze\, Via Enrico Berlinguer\, 7\, Bentivoglio\, 40010\, Italia
CATEGORIES:evento,teatro
ATTACH;FMTTYPE=image/jpeg:https://www.iltemporale.it/it/wp-content/uploads/2023/04/dal-cielo-al-mare-e1681224128634.jpg
END:VEVENT
END:VCALENDAR