BEGIN:VCALENDAR
VERSION:2.0
PRODID:-// - ECPv6.15.17.1//NONSGML v1.0//EN
CALSCALE:GREGORIAN
METHOD:PUBLISH
X-ORIGINAL-URL:https://www.iltemporale.it/it
X-WR-CALDESC:Eventi per 
REFRESH-INTERVAL;VALUE=DURATION:PT1H
X-Robots-Tag:noindex
X-PUBLISHED-TTL:PT1H
BEGIN:VTIMEZONE
TZID:Europe/Paris
BEGIN:DAYLIGHT
TZOFFSETFROM:+0100
TZOFFSETTO:+0200
TZNAME:CEST
DTSTART:20220327T010000
END:DAYLIGHT
BEGIN:STANDARD
TZOFFSETFROM:+0200
TZOFFSETTO:+0100
TZNAME:CET
DTSTART:20221030T010000
END:STANDARD
BEGIN:DAYLIGHT
TZOFFSETFROM:+0100
TZOFFSETTO:+0200
TZNAME:CEST
DTSTART:20230326T010000
END:DAYLIGHT
BEGIN:STANDARD
TZOFFSETFROM:+0200
TZOFFSETTO:+0100
TZNAME:CET
DTSTART:20231029T010000
END:STANDARD
BEGIN:DAYLIGHT
TZOFFSETFROM:+0100
TZOFFSETTO:+0200
TZNAME:CEST
DTSTART:20240331T010000
END:DAYLIGHT
BEGIN:STANDARD
TZOFFSETFROM:+0200
TZOFFSETTO:+0100
TZNAME:CET
DTSTART:20241027T010000
END:STANDARD
END:VTIMEZONE
BEGIN:VEVENT
DTSTART;TZID=Europe/Paris:20230414T180000
DTEND;TZID=Europe/Paris:20230414T203000
DTSTAMP:20260423T025816
CREATED:20230327T153936Z
LAST-MODIFIED:20230327T153936Z
UID:5549-1681495200-1681504200@www.iltemporale.it
SUMMARY:DALLA TERRA AL SUONO
DESCRIPTION:Orchestra Giovanile BenTiVoglio “DALLA TERRA AL SUONO”: Un progetto ad alto valore artistico e culturale Concerto per ocarina e orchestra d’archi\nEmiliano Bernagozzi\, Ocarina e direzione \nProgramma “Il suono della Terra” \nAntonio Vivaldi concerto in La minore RV462 \nSato Kazumi Sogno \nSojiro The Orion \nEmiliano Bernagozzi Japanese Song \nSeiji Yokoyama Mayu’s Theme Capitan Harlock  \nVince Tempera Ode a Matsumoto  \nEnnio Morricone Gabriel’s Oboe \n  \nSi terrà presso il SALONE DEL PODESTÀ – Palazzo Re Enzo\, Bologna \nPrenotazione al link: EUFONICA \n 
URL:https://www.iltemporale.it/it/evento/dalla-terra-al-suono/
CATEGORIES:evento,ocarina,orchestra giovanile
ATTACH;FMTTYPE=image/jpeg:https://www.iltemporale.it/it/wp-content/uploads/2023/03/dalla_terra_al_suono_.jpg
END:VEVENT
BEGIN:VEVENT
DTSTART;TZID=Europe/Paris:20230422T153000
DTEND;TZID=Europe/Paris:20230422T173000
DTSTAMP:20260423T025816
CREATED:20230403T145456Z
LAST-MODIFIED:20230405T153738Z
UID:5557-1682177400-1682184600@www.iltemporale.it
SUMMARY:Scopri le percussioni orchestrali con il prof. Tobia Caradonna!
DESCRIPTION:Scopri le percussioni orchestrali con il prof. Tobia Caradonna!\n3 incontri\, di 2 ore ciascuno per scoprire le percussioni orchestrali e imparare le basi tecniche e sonore di: Timpani\, Glockenspiel\, Tamburello basco\, Triangolo\, Tamburo\, Grancassa\, Piatti\, Piatto sospeso.\nPensati per chi ha già una base di percussioni o batteria\, gli incontri includono momenti individuali e di gruppo per apprendere l’utilizzo di ogni strumento e la loro interazione. \nIl sabato pomeriggio dalle 15:30 alle 17:30 \nnelle giornate 22 aprile\, 6 maggio\, 27 maggio \n presso il Te-zè di Bentivoglio.  \nGli incontri fanno da introduzione al corso annuale di percussioni che inizierà il prossimo anno scolastico per chi fosse interessato a continuare il percorso. Costo 45 euro per chi studia uno strumento presso la nostra scuola di musica\, 70 euro per allievi esterni. Il corso sarà attivato con un numero minimo di 4 partecipanti. \n  \nPer info: 339 764 9937 \n  \nNON PERDETEVI QUESTA OCCASIONE ! ! ! \n 
URL:https://www.iltemporale.it/it/evento/scopri-le-percussioni-orchestrali-con-il-prof-tobia-caradonna/
LOCATION:Centro culturale tE:Ze\, Via Enrico Berlinguer\, 7\, Bentivoglio\, 40010\, Italia
CATEGORIES:scuola di musica
ATTACH;FMTTYPE=image/jpeg:https://www.iltemporale.it/it/wp-content/uploads/2023/04/corso-percussioni-Bentivoglio.jpg
END:VEVENT
BEGIN:VEVENT
DTSTART;TZID=Europe/Paris:20230422T210000
DTEND;TZID=Europe/Paris:20230422T223000
DTSTAMP:20260423T025816
CREATED:20230411T131148Z
LAST-MODIFIED:20230412T192059Z
UID:5610-1682197200-1682202600@www.iltemporale.it
SUMMARY:OPEN THEATRE
DESCRIPTION:OPEN THEATRE\nLa festa del Teatro\nIl palcoscenico sarà vostro per 5 minuti!\nChiunque vorrà potrà esibirsi.\nAttori e spettatori\, un palco per tutti.\nSolo l’ultima esibizione sarà di totale improvvisazione con un tema scelto dal pubblico e chiunque potrà parteciparvi salendo sul palco senza alcun preavviso. \nINGRESSO LIBERO senza prenotazione \nPer partecipare e darci la possibilità di creare una scaletta di esibizioni\, oppure solo per partecipare come pubblico scrivere a\nfabrizialotta@libero.it\no mandare un messaggio wa\nal numero 3386413365 \nREPLICA DELLO SPETTACOLO IL 6 MAGGIO ALLE 21\,00
URL:https://www.iltemporale.it/it/evento/open-theatre/
LOCATION:Centro culturale tE:Ze\, Via Enrico Berlinguer\, 7\, Bentivoglio\, 40010\, Italia
CATEGORIES:evento,teatro
ATTACH;FMTTYPE=image/jpeg:https://www.iltemporale.it/it/wp-content/uploads/2023/04/un-palco-per-tutti-e1681222285236.jpg
END:VEVENT
BEGIN:VEVENT
DTSTART;TZID=Europe/Paris:20230427T100000
DTEND;TZID=Europe/Paris:20230427T113000
DTSTAMP:20260423T025816
CREATED:20230411T145737Z
LAST-MODIFIED:20230411T145737Z
UID:5635-1682589600-1682595000@www.iltemporale.it
SUMMARY:CONCERTO AL TEATRO COMUNALE DI FERRARA
DESCRIPTION:CONCERTO AL TEATRO COMUNALE DI FERRARA\nOrchestra Giovanile BenTiVoglio\nDirettore\, Emiliano Bernagozzi\n\nJean-Joseph Mouret​​                        Rondeau \n​Peter Ilyich Tchaikovsky                  ​​dalla Sinfonia n. 5\, Finale​​​​ \n​Peter Martin                                     ​​​Prelud and Riff​​​​​​’ \n​Rossano Galante​​                             Genesis \n​Michael Story                                   ​​​It’s about time​​​​​​ \n​Victor Lopez                                     ​​​What a wonderful world \n​Ralph Ford​​​                                       Go West \n​Jack Bullock                                     ​​​Rain \n​W. A. Mozart​​​                                    Marcia alla Turca \n\n 
URL:https://www.iltemporale.it/it/evento/concerto-al-teatro-comunale-di-ferrara/
CATEGORIES:evento,orchestra giovanile
ATTACH;FMTTYPE=image/jpeg:https://www.iltemporale.it/it/wp-content/uploads/2023/03/orchestra-giovanile-bentivoglio.jpg
END:VEVENT
BEGIN:VEVENT
DTSTART;TZID=Europe/Paris:20230429T210000
DTEND;TZID=Europe/Paris:20230429T223000
DTSTAMP:20260423T025816
CREATED:20230411T132451Z
LAST-MODIFIED:20230412T192037Z
UID:5614-1682802000-1682807400@www.iltemporale.it
SUMMARY:SEI PERSONAGGI IN CERCA D’ATTORE
DESCRIPTION:Sei personaggi in cerca d’attore\nOvvero “il giallo del giallo”\nUn errore di commedia scritta da Emilia Miscio\nRegia: Margarida Garcia\nUna compagnia teatrale si trova in teatro per \nl’ennesima replica di uno spettacolo giallo \nambientato nell’Inghilterra degli anni ‘30\, ma accade \nl’impensabile…\nUna serie di eventi si abbatterà sulla malaugurata \ncompagnia che vedrà messe a dura prova le proprie \ncapacità di improvvisazione.\nErrori veri o solo finzione? Chi può dirlo?\nIn fondo è proprio vero che\, come diceva \nShakespeare\, tutto il mondo è un palcoscenico \nINGRESSO LIBERO senza prenotazione
URL:https://www.iltemporale.it/it/evento/sei-personaggi-in-cerca-dattore/
LOCATION:Centro culturale tE:Ze\, Via Enrico Berlinguer\, 7\, Bentivoglio\, 40010\, Italia
CATEGORIES:evento,teatro
ATTACH;FMTTYPE=image/jpeg:https://www.iltemporale.it/it/wp-content/uploads/2023/04/Sei-personaggi-in-cerca-d-attore.jpg
END:VEVENT
END:VCALENDAR