BEGIN:VCALENDAR
VERSION:2.0
PRODID:-// - ECPv6.15.17.1//NONSGML v1.0//EN
CALSCALE:GREGORIAN
METHOD:PUBLISH
X-ORIGINAL-URL:https://www.iltemporale.it/it
X-WR-CALDESC:Eventi per 
REFRESH-INTERVAL;VALUE=DURATION:PT1H
X-Robots-Tag:noindex
X-PUBLISHED-TTL:PT1H
BEGIN:VTIMEZONE
TZID:Europe/Paris
BEGIN:DAYLIGHT
TZOFFSETFROM:+0100
TZOFFSETTO:+0200
TZNAME:CEST
DTSTART:20220327T010000
END:DAYLIGHT
BEGIN:STANDARD
TZOFFSETFROM:+0200
TZOFFSETTO:+0100
TZNAME:CET
DTSTART:20221030T010000
END:STANDARD
BEGIN:DAYLIGHT
TZOFFSETFROM:+0100
TZOFFSETTO:+0200
TZNAME:CEST
DTSTART:20230326T010000
END:DAYLIGHT
BEGIN:STANDARD
TZOFFSETFROM:+0200
TZOFFSETTO:+0100
TZNAME:CET
DTSTART:20231029T010000
END:STANDARD
BEGIN:DAYLIGHT
TZOFFSETFROM:+0100
TZOFFSETTO:+0200
TZNAME:CEST
DTSTART:20240331T010000
END:DAYLIGHT
BEGIN:STANDARD
TZOFFSETFROM:+0200
TZOFFSETTO:+0100
TZNAME:CET
DTSTART:20241027T010000
END:STANDARD
END:VTIMEZONE
BEGIN:VEVENT
DTSTART;TZID=Europe/Paris:20230106T110000
DTEND;TZID=Europe/Paris:20230106T123000
DTSTAMP:20260423T070222
CREATED:20230101T173811Z
LAST-MODIFIED:20230101T174046Z
UID:5438-1673002800-1673008200@www.iltemporale.it
SUMMARY:Orchestra Giovanile BenTiVoglio “It's about Time”
DESCRIPTION:“It’s about Time”\nOrchestra Giovanile BenTiVoglio\nDirettore\, Emiliano Bernagozzi\nAttraverso sinfonie classiche e moderne con i giovani musicisti del Temporale. Un gruppo di 40 ragazzi dai 10 ai 25 anni che vi regalerà una mattinata  ricca di emozioni e grande musica; lasciatevi contagiare dall’energia che trasuda da ogni nota dello spartito che questi ragazzi leggono e suonano. \nINGRESSO 10\,00 euro
URL:https://www.iltemporale.it/it/evento/orchestra-giovanile-bentivoglio-its-about-time/
LOCATION:Teatro Leo Amici\, Via Canepa\, 132\, Monte Colombo Montescudo\, RIMINI\, 47854\, Italia
ATTACH;FMTTYPE=image/jpeg:https://www.iltemporale.it/it/wp-content/uploads/2023/01/InvitoTeatro-Leo.jpg
END:VEVENT
END:VCALENDAR