BEGIN:VCALENDAR
VERSION:2.0
PRODID:-// - ECPv6.15.17.1//NONSGML v1.0//EN
CALSCALE:GREGORIAN
METHOD:PUBLISH
X-ORIGINAL-URL:https://www.iltemporale.it/it
X-WR-CALDESC:Eventi per 
REFRESH-INTERVAL;VALUE=DURATION:PT1H
X-Robots-Tag:noindex
X-PUBLISHED-TTL:PT1H
BEGIN:VTIMEZONE
TZID:Europe/Paris
BEGIN:DAYLIGHT
TZOFFSETFROM:+0100
TZOFFSETTO:+0200
TZNAME:CEST
DTSTART:20210328T010000
END:DAYLIGHT
BEGIN:STANDARD
TZOFFSETFROM:+0200
TZOFFSETTO:+0100
TZNAME:CET
DTSTART:20211031T010000
END:STANDARD
BEGIN:DAYLIGHT
TZOFFSETFROM:+0100
TZOFFSETTO:+0200
TZNAME:CEST
DTSTART:20220327T010000
END:DAYLIGHT
BEGIN:STANDARD
TZOFFSETFROM:+0200
TZOFFSETTO:+0100
TZNAME:CET
DTSTART:20221030T010000
END:STANDARD
BEGIN:DAYLIGHT
TZOFFSETFROM:+0100
TZOFFSETTO:+0200
TZNAME:CEST
DTSTART:20230326T010000
END:DAYLIGHT
BEGIN:STANDARD
TZOFFSETFROM:+0200
TZOFFSETTO:+0100
TZNAME:CET
DTSTART:20231029T010000
END:STANDARD
END:VTIMEZONE
BEGIN:VEVENT
DTSTART;TZID=Europe/Paris:20220312T100000
DTEND;TZID=Europe/Paris:20220312T120000
DTSTAMP:20260423T204622
CREATED:20220222T120822Z
LAST-MODIFIED:20220222T121115Z
UID:4869-1647079200-1647086400@www.iltemporale.it
SUMMARY:Musica Maestro
DESCRIPTION:Replica ore 15.00\n \n  \n  \n  \n  \n  \n  \n  \n  \n  \n  \n  \n  \n  \n  \n  \n  \n  \n  \n  \nMusica Maestro\nLaboratorio musicale per bambini dai 3 ai 6 anni\nIncontro gratuito \nSabato 12 marzo ore 10.00 e ore 15.00  \nCentro giovani via XX settembre\, 5 – San Giorgio di Piano \nPrenota per il tuo bambino:  338 . 299 9085    –    339 . 764 9937 \n  \nINFORMAZIONI SCUOLA DI MUSICA
URL:https://www.iltemporale.it/it/evento/musica-maestro/
LOCATION:Scuola di musica San Giorgio di Piano\, Via XX Settembre\, 5\, San Giorgio di Piano BO\, 40016\, Italia
END:VEVENT
END:VCALENDAR