BEGIN:VCALENDAR
VERSION:2.0
PRODID:-// - ECPv6.15.17.1//NONSGML v1.0//EN
CALSCALE:GREGORIAN
METHOD:PUBLISH
X-ORIGINAL-URL:https://www.iltemporale.it/it
X-WR-CALDESC:Eventi per 
REFRESH-INTERVAL;VALUE=DURATION:PT1H
X-Robots-Tag:noindex
X-PUBLISHED-TTL:PT1H
BEGIN:VTIMEZONE
TZID:Europe/Paris
BEGIN:DAYLIGHT
TZOFFSETFROM:+0100
TZOFFSETTO:+0200
TZNAME:CEST
DTSTART:20210328T010000
END:DAYLIGHT
BEGIN:STANDARD
TZOFFSETFROM:+0200
TZOFFSETTO:+0100
TZNAME:CET
DTSTART:20211031T010000
END:STANDARD
BEGIN:DAYLIGHT
TZOFFSETFROM:+0100
TZOFFSETTO:+0200
TZNAME:CEST
DTSTART:20220327T010000
END:DAYLIGHT
BEGIN:STANDARD
TZOFFSETFROM:+0200
TZOFFSETTO:+0100
TZNAME:CET
DTSTART:20221030T010000
END:STANDARD
BEGIN:DAYLIGHT
TZOFFSETFROM:+0100
TZOFFSETTO:+0200
TZNAME:CEST
DTSTART:20230326T010000
END:DAYLIGHT
BEGIN:STANDARD
TZOFFSETFROM:+0200
TZOFFSETTO:+0100
TZNAME:CET
DTSTART:20231029T010000
END:STANDARD
END:VTIMEZONE
BEGIN:VEVENT
DTSTART;TZID=Europe/Paris:20220226T153000
DTEND;TZID=Europe/Paris:20220226T173000
DTSTAMP:20260423T215938
CREATED:20220222T114026Z
LAST-MODIFIED:20220222T114428Z
UID:4861-1645889400-1645896600@www.iltemporale.it
SUMMARY:OGGI SUONIAMO IL CORNO
DESCRIPTION:OGGI SUONIAMO IL CORNO\nIncontro aperto a tutti dagli 8 anni\, anche per adulti !\nUna bellissima opportunità. \nSabato 26 febbraio alle 15.30 \nAvremo il maestro Imerio Tagliaferri\, docente del conservatorio di Bologna e il maestro Pasquale Reale\, docente del Liceo musicale di Modena\, al Te-zè a disposizione di chiunque vorrà conoscere e provare il CORNO. \nQuesto strumento appartiene alla famiglia degli ottoni è il dominatore assoluto della sua famiglia orchestrale\, viene utilizzato in moltissime formazioni da camera ed è indispensabile nelle orchestre e nelle bande\, nonostante questo è poco conosciuto e non è sempre facile trovare un bravo maestro disponibile\, noi come sempre vogliamo esagerare e ne abbiamo ben due ! ! ! \nQuesto incontro è caldamente consigliato  a tutti i bambini e ragazzi che devono ancora scegliere uno strumento e se avete fratelli\, cugini o amici che vogliono cimentarsi potete accompagnarli sabato a provare questo strumento misterioso! \nIl maestro Reale sarà il nuovo docente della classe di corno. \nPrenotazione: 339 . 764 9937 \n  \nINFORMAZIONI SCUOLA DI MUSICA
URL:https://www.iltemporale.it/it/evento/oggi-suoniamo-il-corno/
LOCATION:Centro culturale tE:Ze\, Via Enrico Berlinguer\, 7\, Bentivoglio\, 40010\, Italia
ATTACH;FMTTYPE=image/jpeg:https://www.iltemporale.it/it/wp-content/uploads/2022/02/oggi-suoniamo-il-corno.jpg
END:VEVENT
END:VCALENDAR