BEGIN:VCALENDAR
VERSION:2.0
PRODID:-// - ECPv6.15.17.1//NONSGML v1.0//EN
CALSCALE:GREGORIAN
METHOD:PUBLISH
X-ORIGINAL-URL:https://www.iltemporale.it/it
X-WR-CALDESC:Eventi per 
REFRESH-INTERVAL;VALUE=DURATION:PT1H
X-Robots-Tag:noindex
X-PUBLISHED-TTL:PT1H
BEGIN:VTIMEZONE
TZID:Europe/Paris
BEGIN:DAYLIGHT
TZOFFSETFROM:+0100
TZOFFSETTO:+0200
TZNAME:CEST
DTSTART:20210328T010000
END:DAYLIGHT
BEGIN:STANDARD
TZOFFSETFROM:+0200
TZOFFSETTO:+0100
TZNAME:CET
DTSTART:20211031T010000
END:STANDARD
BEGIN:DAYLIGHT
TZOFFSETFROM:+0100
TZOFFSETTO:+0200
TZNAME:CEST
DTSTART:20220327T010000
END:DAYLIGHT
BEGIN:STANDARD
TZOFFSETFROM:+0200
TZOFFSETTO:+0100
TZNAME:CET
DTSTART:20221030T010000
END:STANDARD
BEGIN:DAYLIGHT
TZOFFSETFROM:+0100
TZOFFSETTO:+0200
TZNAME:CEST
DTSTART:20230326T010000
END:DAYLIGHT
BEGIN:STANDARD
TZOFFSETFROM:+0200
TZOFFSETTO:+0100
TZNAME:CET
DTSTART:20231029T010000
END:STANDARD
END:VTIMEZONE
BEGIN:VEVENT
DTSTART;TZID=Europe/Paris:20220125T203000
DTEND;TZID=Europe/Paris:20220125T213000
DTSTAMP:20260423T231546
CREATED:20220120T085808Z
LAST-MODIFIED:20220120T085808Z
UID:4790-1643142600-1643146200@www.iltemporale.it
SUMMARY:Il violino di Auschwitz
DESCRIPTION:Il violino di Auschwitz\nUna serata per la Memoria\nIncontro con l’autrice Anna Lavatelli \nModeratore Giorgio Fabbri \nMusiche a cura dei ragazzi di BenTiVoglio Strings and Flutes \n  \nL’incontro sarà ripetuto il 26 gennaio per i ragazzi delle classi terze medie dela scuola secondaria di primo grado  G. Ungaretti di Bentivoglio \nPer informazioni: 338 299 9085
URL:https://www.iltemporale.it/it/evento/il-violino-di-auschwitz/
LOCATION:Centro culturale tE:Ze\, Via Enrico Berlinguer\, 7\, Bentivoglio\, 40010\, Italia
ATTACH;FMTTYPE=image/jpeg:https://www.iltemporale.it/it/wp-content/uploads/2022/01/IL-VIOLINO-DI-AUSCHWITZ-il-giorno-della-memoria-e1642668806371.jpg
END:VEVENT
END:VCALENDAR