BEGIN:VCALENDAR
VERSION:2.0
PRODID:-// - ECPv6.15.17.1//NONSGML v1.0//EN
CALSCALE:GREGORIAN
METHOD:PUBLISH
X-ORIGINAL-URL:https://www.iltemporale.it/it
X-WR-CALDESC:Eventi per 
REFRESH-INTERVAL;VALUE=DURATION:PT1H
X-Robots-Tag:noindex
X-PUBLISHED-TTL:PT1H
BEGIN:VTIMEZONE
TZID:Europe/Paris
BEGIN:DAYLIGHT
TZOFFSETFROM:+0100
TZOFFSETTO:+0200
TZNAME:CEST
DTSTART:20190331T010000
END:DAYLIGHT
BEGIN:STANDARD
TZOFFSETFROM:+0200
TZOFFSETTO:+0100
TZNAME:CET
DTSTART:20191027T010000
END:STANDARD
BEGIN:DAYLIGHT
TZOFFSETFROM:+0100
TZOFFSETTO:+0200
TZNAME:CEST
DTSTART:20200329T010000
END:DAYLIGHT
BEGIN:STANDARD
TZOFFSETFROM:+0200
TZOFFSETTO:+0100
TZNAME:CET
DTSTART:20201025T010000
END:STANDARD
BEGIN:DAYLIGHT
TZOFFSETFROM:+0100
TZOFFSETTO:+0200
TZNAME:CEST
DTSTART:20210328T010000
END:DAYLIGHT
BEGIN:STANDARD
TZOFFSETFROM:+0200
TZOFFSETTO:+0100
TZNAME:CET
DTSTART:20211031T010000
END:STANDARD
END:VTIMEZONE
BEGIN:VEVENT
DTSTART;TZID=Europe/Paris:20200913T170000
DTEND;TZID=Europe/Paris:20200913T223000
DTSTAMP:20260424T203701
CREATED:20200805T143343Z
LAST-MODIFIED:20200805T152300Z
UID:3345-1600016400-1600036200@www.iltemporale.it
SUMMARY:Bentivoglio Open Art Day
DESCRIPTION:Musica\, Teatro\, Cultura e Peccati di gola al servizio del territorio \nDalle 17.00 alle 19.30\nProve generali aperte al pubblico no stop – concerti\, pièce teatrali\, monologhi\,\nrappresentazioni in costume\, tanta musica e prove gratuite di strumento e teatro\nUna bella occasione per conoscere e scoprire i gruppi musicali\, le orchestre\,\nla compagnia teatrale\, le rievocazioni storiche\,\ngli insegnanti e i corsi di musica e teatro del Temporale \n  \nOre 20.30 CONCERTO OPEN\nOrchestra Giovanile BenTiVoglio\ne Orchestra Junior \n  \n\n\n\n\nVuoi essere protagonista del CONCERTO OPEN?\nHai tra i 12 e i 25 anni? Per te c’è L’Orchestra Giovanile BenTiVoglio\nHai tra gli 8 e i 15 anni? Per te c’è L’Orchestra Junior \nPartecipa gratuitamente alle prove delle nostre orchestre\nche si terranno nei giorni 10-11 settembre.\nMusiche di Strauss\, Shostakovich\, Vivaldi e molto altro\nSpartiti\, regole e form di iscrizione alla pagina CONCERTO OPEN \nTi aspettiamo! \n\n\n\n\n  \nPunto di ristoro aperto dalle 16.30 alle 20.30: centro sociale Il Mulino \nCon la partecipazione di:\nAssociazione Anno Domini e Centro sociale Il Mulino \n  \nIngresso GRATUITO \nPRENOTAZIONE OBBLIGATORIA al link:  www.iltemporale.it/it/prenota/ \n 
URL:https://www.iltemporale.it/it/evento/bentivoglio-open-art-day/
END:VEVENT
END:VCALENDAR