BEGIN:VCALENDAR
VERSION:2.0
PRODID:-// - ECPv6.15.17.1//NONSGML v1.0//EN
CALSCALE:GREGORIAN
METHOD:PUBLISH
X-ORIGINAL-URL:https://www.iltemporale.it/it
X-WR-CALDESC:Eventi per 
REFRESH-INTERVAL;VALUE=DURATION:PT1H
X-Robots-Tag:noindex
X-PUBLISHED-TTL:PT1H
BEGIN:VTIMEZONE
TZID:Europe/Rome
BEGIN:DAYLIGHT
TZOFFSETFROM:+0100
TZOFFSETTO:+0200
TZNAME:CEST
DTSTART:20230326T010000
END:DAYLIGHT
BEGIN:STANDARD
TZOFFSETFROM:+0200
TZOFFSETTO:+0100
TZNAME:CET
DTSTART:20231029T010000
END:STANDARD
BEGIN:DAYLIGHT
TZOFFSETFROM:+0100
TZOFFSETTO:+0200
TZNAME:CEST
DTSTART:20240331T010000
END:DAYLIGHT
BEGIN:STANDARD
TZOFFSETFROM:+0200
TZOFFSETTO:+0100
TZNAME:CET
DTSTART:20241027T010000
END:STANDARD
BEGIN:DAYLIGHT
TZOFFSETFROM:+0100
TZOFFSETTO:+0200
TZNAME:CEST
DTSTART:20250330T010000
END:DAYLIGHT
BEGIN:STANDARD
TZOFFSETFROM:+0200
TZOFFSETTO:+0100
TZNAME:CET
DTSTART:20251026T010000
END:STANDARD
END:VTIMEZONE
BEGIN:VEVENT
DTSTART;TZID=Europe/Rome:20241124T170000
DTEND;TZID=Europe/Rome:20241124T183000
DTSTAMP:20260421T124408
CREATED:20240918T185224Z
LAST-MODIFIED:20240918T185530Z
UID:6814-1732467600-1732473000@www.iltemporale.it
SUMMARY:PIANO DUO
DESCRIPTION:PIANO DUO\nDOMENICA 24 NOVEMBRE ore 17.00\nVilla Smeraldi\, San Marino di Bentivoglio \nAdriano Leonardo Scapicchi e\nFrancesco Bravi\, pianoforte a quattro mani \n  \n\nClaude Debussy (1862-1918) La Mer (arr. Debussy) \n1 De l’aube à midi sur la mer \n2 Jeux de vagues \n3 Dialogue du vent et de la mer \n  \nIgor Stravinsky (1882-1971) Suite da L’uccello di fuoco (arr. Duo Bravi-Scapicchi) \n1 Introduzione – L’uccello di fuoco e la sua danza – Variazione dell’uccello di fuoco \n2 Khorovod delle principesse (rondò) \n3 Danza infernale del re Kashchei \n4 Berceuse \n5 Finale \n  \nFUORI  PROGRAMMA: \nGyörgy Ligeti (1923-2006) Sonatina Arr. per pianoforte a 4 mani e ocarina di Matteo Forlani \n1   Allegro \n2   Andante \n3   Vivace \n\n\n\n.\n\nINGRESSO LIBERO\n\n..\n.
URL:https://www.iltemporale.it/it/evento/piano-duo/
LOCATION:Museo della Civilta Contadina\, Via S. Marina\, 35\, Bentivoglio\, 40010\, Italia
CATEGORIES:festival musica da camera
ATTACH;FMTTYPE=image/jpeg:https://www.iltemporale.it/it/wp-content/uploads/2024/09/PIANO-DUO-e1726685216927.jpg
END:VEVENT
END:VCALENDAR