BEGIN:VCALENDAR
VERSION:2.0
PRODID:-// - ECPv6.15.17.1//NONSGML v1.0//EN
CALSCALE:GREGORIAN
METHOD:PUBLISH
X-ORIGINAL-URL:https://www.iltemporale.it/it
X-WR-CALDESC:Eventi per 
REFRESH-INTERVAL;VALUE=DURATION:PT1H
X-Robots-Tag:noindex
X-PUBLISHED-TTL:PT1H
BEGIN:VTIMEZONE
TZID:Europe/Rome
BEGIN:DAYLIGHT
TZOFFSETFROM:+0100
TZOFFSETTO:+0200
TZNAME:CEST
DTSTART:20230326T010000
END:DAYLIGHT
BEGIN:STANDARD
TZOFFSETFROM:+0200
TZOFFSETTO:+0100
TZNAME:CET
DTSTART:20231029T010000
END:STANDARD
BEGIN:DAYLIGHT
TZOFFSETFROM:+0100
TZOFFSETTO:+0200
TZNAME:CEST
DTSTART:20240331T010000
END:DAYLIGHT
BEGIN:STANDARD
TZOFFSETFROM:+0200
TZOFFSETTO:+0100
TZNAME:CET
DTSTART:20241027T010000
END:STANDARD
BEGIN:DAYLIGHT
TZOFFSETFROM:+0100
TZOFFSETTO:+0200
TZNAME:CEST
DTSTART:20250330T010000
END:DAYLIGHT
BEGIN:STANDARD
TZOFFSETFROM:+0200
TZOFFSETTO:+0100
TZNAME:CET
DTSTART:20251026T010000
END:STANDARD
END:VTIMEZONE
BEGIN:VEVENT
DTSTART;TZID=Europe/Rome:20240611T210000
DTEND;TZID=Europe/Rome:20240611T223000
DTSTAMP:20260421T191449
CREATED:20240603T170843Z
LAST-MODIFIED:20240603T171113Z
UID:6679-1718139600-1718145000@www.iltemporale.it
SUMMARY:BENTIVOGLIO IN BRASS
DESCRIPTION:BENTIVOGLIO IN BRASS\nMARTEDI’  11 GIUGNO ore 21\,00\nDebutto dell’Ensemble di Ottoni del Temporale\nDirezione: Luigi Zardi e Gianluigi Paganelli\nCon la partecipazione di Orchestra BenTiVoglio Junior\n  \nProgramma \nTerry Clarke (1920-2015)                                            King William’s March \nTielman Susato (1510 ca-1570 ca)                            Renaissance Dances \n1 La Mourisque \n2 Bransle Quatre Bransles \n3 Ronde \n4 Ronde -MonAmy \n5 Basse Danse Bergeret \nJohn Deacon (n. 1951)                                                 I want to break free \nEnnio Morricone (1928-2020)                                    C’era una volta in America \nFrankie Sullivan (n. 1955)                                          Eye of the Tiger \nSteve Winwood (n. 1948)                                           Gimme some lovin’ \nBelolo J. Morali V. Willis                                            Y.M.C.A.
URL:https://www.iltemporale.it/it/evento/bentivoglio-in-brass/
LOCATION:Castello di Bentivoglio\, Via Saliceto\, 1\, Bentivoglio\, Bologna\, 40010\, Italia
CATEGORIES:festival musica da camera,orchestra giovanile
ATTACH;FMTTYPE=image/jpeg:https://www.iltemporale.it/it/wp-content/uploads/2024/06/Bentivoglio-in-brass-Festival-musica-da-camera-2024-e1717434111527.jpg
END:VEVENT
BEGIN:VEVENT
DTSTART;TZID=Europe/Rome:20240614T210000
DTEND;TZID=Europe/Rome:20240614T223000
DTSTAMP:20260421T191449
CREATED:20240603T172356Z
LAST-MODIFIED:20240603T175110Z
UID:6687-1718398800-1718404200@www.iltemporale.it
SUMMARY:SGANAPINO A SCUOLA DI VIOLINO
DESCRIPTION:SGANAPINO A SCUOLA DI VIOLINO\nVENERDI’  14 GIUGNO ore 21\,00\nBurattini a Bologna e BenTiVoglio String’s Ensemble\nMusiche \nJean Baptiste Accolay (1833-1900)                    Concerto n. 1 in la minore            Allegro moderato \nViolino solista Ada Negroni                                       \nAntonio Vivaldi          (1678-1741)                        Concerto in sol maggiore RV310 Allegro-Largo-Allegro \nViolino solista M° Franco Parisini \nPopolare irlandese                                                   Carrickfergus
URL:https://www.iltemporale.it/it/evento/sganapino-a-scuola-di-violino/
LOCATION:Castello di Bentivoglio\, Via Saliceto\, 1\, Bentivoglio\, Bologna\, 40010\, Italia
CATEGORIES:festival musica da camera,orchestra giovanile
ATTACH;FMTTYPE=image/jpeg:https://www.iltemporale.it/it/wp-content/uploads/2024/06/Burattini-a-Bologna-Festival-musica-da-camera-2024-e1717435323641.jpg
END:VEVENT
END:VCALENDAR