BEGIN:VCALENDAR
VERSION:2.0
PRODID:-// - ECPv6.15.17.1//NONSGML v1.0//EN
CALSCALE:GREGORIAN
METHOD:PUBLISH
X-ORIGINAL-URL:https://www.iltemporale.it/it
X-WR-CALDESC:Eventi per 
REFRESH-INTERVAL;VALUE=DURATION:PT1H
X-Robots-Tag:noindex
X-PUBLISHED-TTL:PT1H
BEGIN:VTIMEZONE
TZID:Europe/Paris
BEGIN:DAYLIGHT
TZOFFSETFROM:+0100
TZOFFSETTO:+0200
TZNAME:CEST
DTSTART:20210328T010000
END:DAYLIGHT
BEGIN:STANDARD
TZOFFSETFROM:+0200
TZOFFSETTO:+0100
TZNAME:CET
DTSTART:20211031T010000
END:STANDARD
BEGIN:DAYLIGHT
TZOFFSETFROM:+0100
TZOFFSETTO:+0200
TZNAME:CEST
DTSTART:20220327T010000
END:DAYLIGHT
BEGIN:STANDARD
TZOFFSETFROM:+0200
TZOFFSETTO:+0100
TZNAME:CET
DTSTART:20221030T010000
END:STANDARD
BEGIN:DAYLIGHT
TZOFFSETFROM:+0100
TZOFFSETTO:+0200
TZNAME:CEST
DTSTART:20230326T010000
END:DAYLIGHT
BEGIN:STANDARD
TZOFFSETFROM:+0200
TZOFFSETTO:+0100
TZNAME:CET
DTSTART:20231029T010000
END:STANDARD
END:VTIMEZONE
BEGIN:VEVENT
DTSTART;TZID=Europe/Paris:20220701T210000
DTEND;TZID=Europe/Paris:20220701T230000
DTSTAMP:20260423T014654
CREATED:20220512T121922Z
LAST-MODIFIED:20220512T121922Z
UID:5226-1656709200-1656716400@www.iltemporale.it
SUMMARY:UR-
DESCRIPTION:INGRESSO GRATUITO  →  PRENOTAZIONE OBBLIGATORIA\nUR-\nAccordo dei Contrari\n…Ci piace definirci come Gruppo Rock-Strumentale il cui percorso musicale si focalizza attraverso composizioni che riguardano le improvvisazioni\, le poliritmie e in generale l’interazione durante le performance dal vivo (live). Per la nostra musica\, l’Interplay riveste un ruolo fondamentale. L’amicizia e la stima reciproca ci tiene uniti oramai dal lontano 2001. Attraverso la pubblicazione di cinque album la nostra attività musicale ci ha portati a esibirci su prestigiosi palchi di festival Internazionali europei e statunitensi. Le influenze musicali sono svariate e spaziano dal Rock Progressivo e Jazz-Rock degli anni 70\, al jazz contemporaneo alla musica classica del ventesimo secolo. Le singole esperienze musicali che ognuno di noi quattro ha assimilato nel proprio cammino si sono fuse in un’unica grande forza\, energica\, pura e mistica. Presentiamo per quest’ occasione l’ultimo lavoro realizzato in studio\, UR- che ha visto la partecipazione anche di apprezzati musicisti ma soprattutto amici che hanno condiviso con noi momenti creativi molto intensi. Non c’è modo migliore di presentare UR- con poche ma incisive parole: \n“Immagina le dinamiche della vita rappresentate attraverso i suoni; o i contrasti\, a cui assisti nella vita di tutti i giorni\, espressi in luce e colori. Questo è quanto molti artisti hanno cercato di fare in passato e cercano di fare ancora oggi\, ciascuno nel proprio linguaggio. Questo è quello che cerchiamo di fare ora e cercheremo di fare domani\, nel nostro linguaggio. Tentiamo solo di catturare le nostre impressioni quotidiane\, non importa se si tratta di rock progressivo o meno”…\n                                                                                                                          Accordo dei Contrari \n  \nINGRESSO GRATUITO  →  PRENOTAZIONE OBBLIGATORIA
URL:https://www.iltemporale.it/it/evento/ur/
CATEGORIES:evento,festival musica da camera
ATTACH;FMTTYPE=image/jpeg:https://www.iltemporale.it/it/wp-content/uploads/2022/05/UR_accordo-dei-contrari-e1652361507882.jpg
END:VEVENT
BEGIN:VEVENT
DTSTART;TZID=Europe/Paris:20220715T210000
DTEND;TZID=Europe/Paris:20220715T230000
DTSTAMP:20260423T014654
CREATED:20220512T124702Z
LAST-MODIFIED:20220512T124740Z
UID:5246-1657918800-1657926000@www.iltemporale.it
SUMMARY:Evening in Brass
DESCRIPTION:INGRESSO GRATUITO  →  PRENOTAZIONE OBBLIGATORIA\n  \nEvening in Brass\nOFI brass ensemble\n… Siamo gli Ottoni dell’Orchestra Filarmonica Italiana; ci siamo incontrati musicalmente all’interno di OFI\, un’orchestra che è una cooperativa di musicisti che riunisce in un network oltre 200 elementi di alto profilo professionale. Il suo organico modulare\, può adattarsi tanto alle produzioni dei grandi Enti lirici italiani quanto dei Teatri di Tradizione ed in questi anni abbiamo avuto la gioia di suonare in favolosi teatri con direttori e solisti di grande fama come Jessica Pratt\, Mariella Devia\, Gianluigi Gelmetti\, Nello Santi\, per citarne alcuni. La voglia di sperimentare e suonare insieme ci ha spinto a creare l’OFI BRASS ENSEMBLE che si presenta come una formazione variabile dal quartetto al decimino di grande duttilità nell’affrontare un repertorio che spazia dal Barocco al contemporaneo…  \n                                                OFI Brass Ensemble \n  \nINGRESSO GRATUITO  →  PRENOTAZIONE OBBLIGATORIA\n  \n 
URL:https://www.iltemporale.it/it/evento/evening-in-brass/
CATEGORIES:evento,festival musica da camera
ATTACH;FMTTYPE=image/jpeg:https://www.iltemporale.it/it/wp-content/uploads/2022/05/OFI-brass-ensemble-e1652363058885.jpg
END:VEVENT
END:VCALENDAR