BEGIN:VCALENDAR
VERSION:2.0
PRODID:-// - ECPv6.15.17.1//NONSGML v1.0//EN
CALSCALE:GREGORIAN
METHOD:PUBLISH
X-ORIGINAL-URL:https://www.iltemporale.it/it
X-WR-CALDESC:Eventi per 
REFRESH-INTERVAL;VALUE=DURATION:PT1H
X-Robots-Tag:noindex
X-PUBLISHED-TTL:PT1H
BEGIN:VTIMEZONE
TZID:Europe/Paris
BEGIN:DAYLIGHT
TZOFFSETFROM:+0100
TZOFFSETTO:+0200
TZNAME:CEST
DTSTART:20210328T010000
END:DAYLIGHT
BEGIN:STANDARD
TZOFFSETFROM:+0200
TZOFFSETTO:+0100
TZNAME:CET
DTSTART:20211031T010000
END:STANDARD
BEGIN:DAYLIGHT
TZOFFSETFROM:+0100
TZOFFSETTO:+0200
TZNAME:CEST
DTSTART:20220327T010000
END:DAYLIGHT
BEGIN:STANDARD
TZOFFSETFROM:+0200
TZOFFSETTO:+0100
TZNAME:CET
DTSTART:20221030T010000
END:STANDARD
BEGIN:DAYLIGHT
TZOFFSETFROM:+0100
TZOFFSETTO:+0200
TZNAME:CEST
DTSTART:20230326T010000
END:DAYLIGHT
BEGIN:STANDARD
TZOFFSETFROM:+0200
TZOFFSETTO:+0100
TZNAME:CET
DTSTART:20231029T010000
END:STANDARD
END:VTIMEZONE
BEGIN:VEVENT
DTSTART;TZID=Europe/Paris:20220610T210000
DTEND;TZID=Europe/Paris:20220610T230000
DTSTAMP:20260423T025459
CREATED:20220511T174934Z
LAST-MODIFIED:20220511T174934Z
UID:5202-1654894800-1654902000@www.iltemporale.it
SUMMARY:Non solo TANGO
DESCRIPTION:INGRESSO GRATUITO  →  PRENOTAZIONE OBBLIGATORIA\n\nNon solo TANGO\nOrchestra Giovanile BenTiVoglio\nDirettore Emiliano Bernagozzi\nSpecial guest: Los Guapos del Tango\n… Per suonare insieme bisogna imparare ad ascoltare gli altri\, lasciare spazio\, valorizzare l’espressione dell’altro senza sovrastarlo. Un gruppo musicale suona bene se lascia da parte l’individualismo ed entra in una vera e propria “etica di gruppo”\, dove del “gruppo” fa parte anche il pubblico.\n                                             I docenti de Il Temporale \n  \nINGRESSO GRATUITO  →  PRENOTAZIONE OBBLIGATORIA
URL:https://www.iltemporale.it/it/evento/non-solo-tango/
CATEGORIES:evento,festival musica da camera,orchestra giovanile
ATTACH;FMTTYPE=image/jpeg:https://www.iltemporale.it/it/wp-content/uploads/2022/05/orchestra-giovanile-di-bentivoglio-e1652294852944.jpg
END:VEVENT
END:VCALENDAR